BEGIN:VCALENDAR
VERSION:2.0
PRODID:-//Patriot Guard Riders - ECPv5.3.2.1//NONSGML v1.0//EN
CALSCALE:GREGORIAN
METHOD:PUBLISH
X-WR-CALNAME:Patriot Guard Riders
X-ORIGINAL-URL:https://www.patriotguard.org
X-WR-CALDESC:Events for Patriot Guard Riders
BEGIN:VTIMEZONE
TZID:America/New_York
BEGIN:DAYLIGHT
TZOFFSETFROM:-0500
TZOFFSETTO:-0400
TZNAME:EDT
DTSTART:20190310T070000
END:DAYLIGHT
BEGIN:STANDARD
TZOFFSETFROM:-0400
TZOFFSETTO:-0500
TZNAME:EST
DTSTART:20191103T060000
END:STANDARD
END:VTIMEZONE
BEGIN:VEVENT
DTSTART;VALUE=DATE:20190911
DTEND;VALUE=DATE:20190912
DTSTAMP:20210401T025527
CREATED:20190909T005724Z
LAST-MODIFIED:20190909T005724Z
UID:173048-1568160000-1568246399@www.patriotguard.org
SUMMARY:Annual 9/11 Remembrance Ceremony
DESCRIPTION:Memorial\nAnnual 9/11 Remembrance Ceremony\n\nPittsburgh\, Pennsylvania – 09-11-19\n\n\n\nABOUT THE MISSION: \nThe Patriot Guard Riders have been invited to stand in honor for the 9/11 victims and South Township First Responders.\nThe Township Board of Supervisors\, in conjunction with Windover Hills United Methodist Church\, is sponsoring a 9/11 Remembrance Ceremony\, rain or shine\, to recognize First Responders in South Park Township.\nThe ceremony will include patriotic songs\, the distribution of American Flags and local performers.\n\n\nPRIMARY STAGING DETAILS: 09-11-19 \nStaging Time: 5:45 bPM\n \nParking Lot of Windover Hills United Methodist Church\nPittsburgh\, Pennsylvania 15236\nMap\n\n\nRide Captain: \nLewis Winnecour\nlwinne1@comcast.net\n(412) 889-5629\n\n\nSpecial Instructions: \nBriefing: 6:00 PM\nFlag Line: 6:15 PM\nCeremony begins at 6:30 PM on the hill across the street from Windover Hills United Methodist Church Parking Lot.\nRefreshments and beverages will be served immediately after the ceremony at Windover Hill United Methodist Church Fellowship Hall. All are welcome including children.\nMembers can attend all of a mission or any part of the mission. PGR sets no time for a member to stand a mission.\n\n\nFlags & Water:\nFlags will not be provided\nLarge Bike Flags will NOT be needed.\nWater WILL NOT be provided\, please bring your own.\n\n\n\nSubmitted By: Marcy Sorensen \nPosition: Pennsylvania Ride Captain \n\nNote: You do not have to own/ride a motorcycle or be a veteran to join\, and membership is Free. The only requirement is RESPECT! To subscribe to receive mission notices\, log into the National Site and click on the Members tab at the top. Select the Subscribe to PGR Missions option.\n Print This Page
URL:https://www.patriotguard.org/mission/annual-9-11-remembrance-ceremony-2/
CATEGORIES:Memorial
END:VEVENT
END:VCALENDAR