BEGIN:VCALENDAR
VERSION:2.0
PRODID:-//Patriot Guard Riders - ECPv5.6.0//NONSGML v1.0//EN
CALSCALE:GREGORIAN
METHOD:PUBLISH
X-WR-CALNAME:Patriot Guard Riders
X-ORIGINAL-URL:https://www.patriotguard.org
X-WR-CALDESC:Events for Patriot Guard Riders
BEGIN:VTIMEZONE
TZID:America/New_York
BEGIN:DAYLIGHT
TZOFFSETFROM:-0500
TZOFFSETTO:-0400
TZNAME:EDT
DTSTART:20160313T070000
END:DAYLIGHT
BEGIN:STANDARD
TZOFFSETFROM:-0400
TZOFFSETTO:-0500
TZNAME:EST
DTSTART:20161106T060000
END:STANDARD
END:VTIMEZONE
BEGIN:VEVENT
DTSTART;TZID=America/New_York:20160712T090000
DTEND;TZID=America/New_York:20160712T110000
DTSTAMP:20210512T143529
CREATED:20160712T130000Z
LAST-MODIFIED:20191201T144419Z
UID:410672-1468314000-1468321200@www.patriotguard.org
SUMMARY:Angelo M. Bellittiere\, USA
DESCRIPTION:Please note that due to ongoing OPSEC concerns\, mission details are not shown in this posting. All specific details and updates have been sent to members directly via their e-mail address on file. \nFellow PGR Members: \nWe have been requested to st5and in Honor of another World War II Veteran.  Angelo M. Bellittiere of Hamburg passed away on July 6th. \nMr. Bellittiere served in the US Army from 1942-1945 in France during the Northern France Campaign.  His MOS was 131 – Film Editor. He was Honorably Discharged on 8 November 1945 with the rank of Technical Sergeant. \nWhen/Where\nTuesday\, July 12\, 2016 \nHamburg\, NY  14075 \nLRC:\nWayne Siminski\nwayjo699@aim.com \nPlease do whatever you are able to help us Honor the WW-II Service of TSgt. Angelo M. Bellittiere\, and to support his loving and proud family. \nPlease arrive with a clean 3×5 American Flag or a US Army flag.  Dress for the weather\, and ensure your bike flags are properly placed and securely attached.
URL:https://www.patriotguard.org/mission/angelo-m-bellittiere-usa/
CATEGORIES:Archive
END:VEVENT
END:VCALENDAR