BEGIN:VCALENDAR
VERSION:2.0
PRODID:-//Patriot Guard Riders - ECPv5.3.2.1//NONSGML v1.0//EN
CALSCALE:GREGORIAN
METHOD:PUBLISH
X-WR-CALNAME:Patriot Guard Riders
X-ORIGINAL-URL:https://www.patriotguard.org
X-WR-CALDESC:Events for Patriot Guard Riders
BEGIN:VTIMEZONE
TZID:America/New_York
BEGIN:DAYLIGHT
TZOFFSETFROM:-0500
TZOFFSETTO:-0400
TZNAME:EDT
DTSTART:20190310T070000
END:DAYLIGHT
BEGIN:STANDARD
TZOFFSETFROM:-0400
TZOFFSETTO:-0500
TZNAME:EST
DTSTART:20191103T060000
END:STANDARD
END:VTIMEZONE
BEGIN:VEVENT
DTSTART;VALUE=DATE:20190912
DTEND;VALUE=DATE:20190913
DTSTAMP:20210401T102040
CREATED:20190911T192352Z
LAST-MODIFIED:20190911T192352Z
UID:173539-1568246400-1568332799@www.patriotguard.org
SUMMARY:ANG Unit
DESCRIPTION:Welcome Home\nEngineering Unit\, Veteran\nANG – WoT\nHuntsville\, Alabama – 09-12-19\n\n\n\nABOUT THE MISSION: \nThe Patriot Guard have been asked to provide flags and Welcome Home for the Engineering Unit. We are Honored to do so.\n\n\nPRIMARY STAGING DETAILS: 09-12-19 \nStaging Time: 1:30 PM\n \nHuntsville International Airport Tarmac Gate #29\nJames Record Dr.\nHuntsville\, Alabama 35824\n\n\nRide Captain: \nJeff Tennyson\nJeff.tennyson6897@gmail.com\n256-221-1921\n\n\nSpecial Instructions: \nEstablish Flag Line.\nFrom I-565\, take Wall-Triana exit. South on Wall-Triana to James Record\, turn right.\nGate #29 will be on the left.\n1st flight in-2:30 pm\, 2nd flight in-3:30 pm\n\n\nFlags & Water:\nFlags will be provided\nIf you have large bike flags\, please bring them.\nWater WILL NOT be provided\, please bring your own.\n\n\n\nSubmitted By: John Cooper \nPosition: Alabama Ride Captain \n\nNote: You do not have to own/ride a motorcycle or be a veteran to join\, and membership is Free. The only requirement is RESPECT! To subscribe to receive mission notices\, log into the National Site and click on the Members tab at the top. Select the Subscribe to PGR Missions option.\n Print This Page
URL:https://www.patriotguard.org/mission/ang-unit/
CATEGORIES:Welcome Home
END:VEVENT
END:VCALENDAR