BEGIN:VCALENDAR
VERSION:2.0
PRODID:-//Patriot Guard Riders - ECPv5.6.0//NONSGML v1.0//EN
CALSCALE:GREGORIAN
METHOD:PUBLISH
X-WR-CALNAME:Patriot Guard Riders
X-ORIGINAL-URL:https://www.patriotguard.org
X-WR-CALDESC:Events for Patriot Guard Riders
BEGIN:VTIMEZONE
TZID:America/New_York
BEGIN:DAYLIGHT
TZOFFSETFROM:-0500
TZOFFSETTO:-0400
TZNAME:EDT
DTSTART:20160313T070000
END:DAYLIGHT
BEGIN:STANDARD
TZOFFSETFROM:-0400
TZOFFSETTO:-0500
TZNAME:EST
DTSTART:20161106T060000
END:STANDARD
END:VTIMEZONE
BEGIN:VEVENT
DTSTART;TZID=America/New_York:20160613T090000
DTEND;TZID=America/New_York:20160613T110000
DTSTAMP:20210513T165537
CREATED:20160613T130000Z
LAST-MODIFIED:20191201T145243Z
UID:411432-1465808400-1465815600@www.patriotguard.org
SUMMARY:Andy Rios Sr\, 77\, USN
DESCRIPTION:Andrew “Andy” Rios Sr.\, 77\nUSN / Firefighter\nSt Louis\, Missouri\n13 June 16\n\n\n\nLadies and Gentlemen of the Patriot Guard Riders\, the family of Navy Veteran Andy Rios Sr. has invited the PGR to stand in honor of their fallen Hero\, just as he once stood for us. It will be our distinct privilege to do so. Hero Rios will receive Military Honors\, as well as a tribute from the Firefighter’s Honor Guard.\nMr. Rios served our Great Nation in the Navy from 1957 through 1961\, where he was an ADJ3 (Aviation Machinist’s Mate Jet Engine Mechanic) Petty Officer 3rd Class\, and later served again as a Firefighter until retirement.\nThank you Mr. Rios\, from a grateful Nation. You will never be forgotten. \n Mission schedule: \nMonday\, June 13\, 2016\n10:45 – Ride Meeting @ JohnL. Ziegenhein & Sons (City)\, 7027 Gravois Ave\, St. Louis\, MO 63116\n11:00 – Flag Line\n12:00 – Funeral Service with Honor escort immediately following.\n1:30 – Jefferson Barracks National Cemetery appointment time\n\nRide Captain – Jeff Hirsch / jeff.hirsch@aol.com / 314-210-6307\nSupport / Flags – Jim “Tinker” Jarzenbeck \n  Cages welcome. Please arrive hydrated\, and prepared for a safe and Respectful Honor escort.
URL:https://www.patriotguard.org/mission/andy-rios-sr-77-usn/
END:VEVENT
END:VCALENDAR