BEGIN:VCALENDAR
VERSION:2.0
PRODID:-//Patriot Guard Riders - ECPv5.6.0//NONSGML v1.0//EN
CALSCALE:GREGORIAN
METHOD:PUBLISH
X-WR-CALNAME:Patriot Guard Riders
X-ORIGINAL-URL:https://www.patriotguard.org
X-WR-CALDESC:Events for Patriot Guard Riders
BEGIN:VTIMEZONE
TZID:America/New_York
BEGIN:DAYLIGHT
TZOFFSETFROM:-0500
TZOFFSETTO:-0400
TZNAME:EDT
DTSTART:20160313T070000
END:DAYLIGHT
BEGIN:STANDARD
TZOFFSETFROM:-0400
TZOFFSETTO:-0500
TZNAME:EST
DTSTART:20161106T060000
END:STANDARD
END:VTIMEZONE
BEGIN:VEVENT
DTSTART;TZID=America/New_York:20160709T090000
DTEND;TZID=America/New_York:20160709T110000
DTSTAMP:20210512T134736
CREATED:20160709T130000Z
LAST-MODIFIED:20191201T144524Z
UID:410771-1468054800-1468062000@www.patriotguard.org
SUMMARY:Andy K. Slimp
DESCRIPTION:The Family of SGT Andy K Slimp has requested the Patriot Guard Riders to stand and honor their fallen Hero. \nAndy joined the US Army in 1974 and was stationed at Ft Sill\, Ok to be trained in Field Artillary.  Having completed his MOS training\, Andy was stationed in Germany where he completed his tour of duty\, and ETS in 1980. \nThe Service  will be at 1000 am\, Saturday 9 July 2016 at Wyatt Funeral Home\, 202 E Colorado St\, Walters\, Ok.\n\nInterment will be at the Walters Cemetery\, Walters Ok. \nDate: Saturday 9 July 2016 \nStaging: 0900\nWyatt Funeral Home\, 202 E Colorado St\, Walters\, Ok. \nMandatory Briefing:  0915 \nFlag Line: 0930 \nKSU: Following Service \nEscort to Walters Cemetery\n129 E. Colorado Ave. \nWeather: Partly Cloudy – High of 98 \nRCIC:    James (Dave) Slate\n               (580) 581-7687\n               jamesdslate@yahoo.com
URL:https://www.patriotguard.org/mission/andy-k-slimp/
CATEGORIES:Archive
END:VEVENT
END:VCALENDAR