BEGIN:VCALENDAR
VERSION:2.0
PRODID:-//Patriot Guard Riders - ECPv5.6.0//NONSGML v1.0//EN
CALSCALE:GREGORIAN
METHOD:PUBLISH
X-WR-CALNAME:Patriot Guard Riders
X-ORIGINAL-URL:https://www.patriotguard.org
X-WR-CALDESC:Events for Patriot Guard Riders
BEGIN:VTIMEZONE
TZID:America/New_York
BEGIN:DAYLIGHT
TZOFFSETFROM:-0500
TZOFFSETTO:-0400
TZNAME:EDT
DTSTART:20160313T070000
END:DAYLIGHT
BEGIN:STANDARD
TZOFFSETFROM:-0400
TZOFFSETTO:-0500
TZNAME:EST
DTSTART:20161106T060000
END:STANDARD
END:VTIMEZONE
BEGIN:VEVENT
DTSTART;TZID=America/New_York:20160821T090000
DTEND;TZID=America/New_York:20160821T110000
DTSTAMP:20210512T033028
CREATED:20160821T130000Z
LAST-MODIFIED:20191201T143438Z
UID:409775-1471770000-1471777200@www.patriotguard.org
SUMMARY:Andy C. Rogers\, 86\,  USA
DESCRIPTION:We\, the Patriot Guard Riders\, have been invited to stand in honor and recognition of Mr. Andy Cleveland Rogers’ service to America. Andy is a U.S. Army Korean War Veteran and was 86. \nAs with many of his generation not much is known about his service. They came home went to work\, started families\, worshiped and lived the American dream. \nMISSION DETAILS:      Sunday 21 August 2016 \nStaging Location:        Hillcrest Memorial  Gardens\n14050   East Wade Hampton Blvd.\nGreer\, SC 29651\nMAP:                           https://goo.gl/maps/zwEEex4VH352 \nAssemble:                       12:45 pm-1:00 pm \nBriefing:                         1:15 pm \nEXECUTION:\nAfter the briefing\, we will stand up the flag line with all attendees for the family’s arrival and graveside service at 2:00 pm. \nIt is our honor to act as Ride Captains for this mission; \nFrank Holder\nRCIC\n864-616-7884\nL84supper52@gmail.com \nW. Dean ‘Swingarm’ Wallace\nRCIT\n864-952-9142\nswingarm@charter.net \nTerry Welch\nMentor/Flag Wagon\n864-505-2439\nTwelch2732@aol.com
URL:https://www.patriotguard.org/mission/andy-c-rogers-86-usa/
CATEGORIES:Archive
END:VEVENT
END:VCALENDAR