BEGIN:VCALENDAR
VERSION:2.0
PRODID:-//Patriot Guard Riders - ECPv5.6.0//NONSGML v1.0//EN
CALSCALE:GREGORIAN
METHOD:PUBLISH
X-WR-CALNAME:Patriot Guard Riders
X-ORIGINAL-URL:https://www.patriotguard.org
X-WR-CALDESC:Events for Patriot Guard Riders
BEGIN:VTIMEZONE
TZID:America/New_York
BEGIN:DAYLIGHT
TZOFFSETFROM:-0500
TZOFFSETTO:-0400
TZNAME:EDT
DTSTART:20160313T070000
END:DAYLIGHT
BEGIN:STANDARD
TZOFFSETFROM:-0400
TZOFFSETTO:-0500
TZNAME:EST
DTSTART:20161106T060000
END:STANDARD
END:VTIMEZONE
BEGIN:VEVENT
DTSTART;TZID=America/New_York:20160718T090000
DTEND;TZID=America/New_York:20160718T110000
DTSTAMP:20210512T130958
CREATED:20160718T130000Z
LAST-MODIFIED:20191201T144310Z
UID:410565-1468832400-1468839600@www.patriotguard.org
SUMMARY:Andrew M. Chestnut\, 31\, USA Veteran / Bonne Terre
DESCRIPTION:The Family of U.S. Army Veteran Andrew M. Chestnut (31 yrs.) has Requested the Patriot Guard for the Final Mission of Their Loved One. \nVisitation / Service:\nC.Z. Boyer & Son Funeral Home\n313 Benham Street\nBonne Terre\, MO  63628 \nMONDAY\, JULY 18th.\,  2016 \nVisitation:  11:00 a.m. to 12:30 p.m.  (1100 hrs. – 1230 hrs.) \nMemorial Service:  12:30 a.m.  (1230 hrs.) \nHonor Escort to Jefferson Barracks National Cemetery\, St. Louis\, MO for Inurnment with Full Military Honors (2:30 p.m.). \nRCIC:\nKen “Grumpy” Kelly\, RC.\naugust.kelly@hotmail.com \nFlags/Support:\nLaurie “Honeybee” Yager \nStaging: Boyer Funeral Home at 11:00 a.m. (1100 hrs.) To Stake and Establish a Flag Line. \nWeather Predictions:  95° / Mostly Sunny / 10% Chance of Showers / HYDRATE. \nRespectfully Submitted:\nS. Roger “Goose” Dollinger\, SRC
URL:https://www.patriotguard.org/mission/andrew-m-chestnut-31-usa-veteran-bonne-terre/
CATEGORIES:Archive
END:VEVENT
END:VCALENDAR