BEGIN:VCALENDAR
VERSION:2.0
PRODID:-//Patriot Guard Riders - ECPv5.3.2.1//NONSGML v1.0//EN
CALSCALE:GREGORIAN
METHOD:PUBLISH
X-WR-CALNAME:Patriot Guard Riders
X-ORIGINAL-URL:https://www.patriotguard.org
X-WR-CALDESC:Events for Patriot Guard Riders
BEGIN:VTIMEZONE
TZID:America/New_York
BEGIN:DAYLIGHT
TZOFFSETFROM:-0500
TZOFFSETTO:-0400
TZNAME:EDT
DTSTART:20190310T070000
END:DAYLIGHT
BEGIN:STANDARD
TZOFFSETFROM:-0400
TZOFFSETTO:-0500
TZNAME:EST
DTSTART:20191103T060000
END:STANDARD
END:VTIMEZONE
BEGIN:VEVENT
DTSTART;VALUE=DATE:20190531
DTEND;VALUE=DATE:20190601
DTSTAMP:20210405T052851
CREATED:20190529T131923Z
LAST-MODIFIED:20190529T131923Z
UID:162438-1559260800-1559347199@www.patriotguard.org
SUMMARY:Andrew J. Shields
DESCRIPTION:Memorial\nAndrew J. Shields\, KIA\nUSA – WoT\nVancouver\, Washington – 05-31-19\n\n\n\nABOUT THE MISSION: \nLadies and Gentlemen\, the Community Military Appreciation Committee (CMAC) for Clark County has requested the Patriot Guard Riders to join with them in conducting the “Never To Be Forgotten” ceremony for PFC Andrew J Shields\, 19 years of age who was killed in Jalalabad City\, Afghanistan on 31 May 2008. PFC Shields was assigned as a Combat Medic with 173rd Special Troops Bn\, 173rd Airborne Brigade Combat Team and was killed conducting combat actions. This special ceremony is to ensure that PFC Shields and his family are fully honored for his self-sacrifice while conducting military operations in a foreign country. Please join with us as we stand in honor for one of our True American Heroes and ensure that his sacrifice shall “Not Be Forgotten”.\n\n\nPRIMARY STAGING DETAILS: 05-31-19 \nStaging Time: 10:15 am\n \nFt Vancouver Barracks\n“War Memorial”\n750 Anderson St (Ft Vancouver Way & McClellan)\nVancouver\, Washington 98663\n\n\nRide Captain: \nLynn Vaughn\nLynnVaughn515@comcast.net\n(360) 936-9576\n\n\nSpecial Instructions: \n10:30 am – Staging/Sign-In\n10:45 am – Briefing\n11:00 am – Flagline\n11:30 am – Guest/Family Begin Arriving\n12:00 pm – Ceremony Begins\n12:30 pm – Flagline Fades Away\n\n\nFlags & Water:\nFlags will be provided\nLarge Bike Flags will NOT be needed.\nWater will be provided.\n\nSubmitted By: LYNN VAUGHN \nPosition: Washington Ride Captain \n\nNote: You do not have to own/ride a motorcycle or be a veteran to join\, and membership is Free. The only requirement is RESPECT! To subscribe to receive mission notices\, log into the National Site and click on the Members tab at the top. Select the Subscribe to PGR Missions option.\n Print This Page
URL:https://www.patriotguard.org/mission/andrew-j-shields/
CATEGORIES:Memorial
END:VEVENT
END:VCALENDAR