BEGIN:VCALENDAR
VERSION:2.0
PRODID:-//Patriot Guard Riders - ECPv5.3.2.1//NONSGML v1.0//EN
CALSCALE:GREGORIAN
METHOD:PUBLISH
X-WR-CALNAME:Patriot Guard Riders
X-ORIGINAL-URL:https://www.patriotguard.org
X-WR-CALDESC:Events for Patriot Guard Riders
BEGIN:VTIMEZONE
TZID:America/New_York
BEGIN:DAYLIGHT
TZOFFSETFROM:-0500
TZOFFSETTO:-0400
TZNAME:EDT
DTSTART:20170312T070000
END:DAYLIGHT
BEGIN:STANDARD
TZOFFSETFROM:-0400
TZOFFSETTO:-0500
TZNAME:EST
DTSTART:20171105T060000
END:STANDARD
END:VTIMEZONE
BEGIN:VEVENT
DTSTART;TZID=America/New_York:20170202T101500
DTEND;TZID=America/New_York:20170202T121500
DTSTAMP:20210403T011720
CREATED:20170202T151500Z
LAST-MODIFIED:20191201T030826Z
UID:312882-1486030500-1486037700@www.patriotguard.org
SUMMARY:Andres A. Marquez \, Veteran\, USMC - Vietnam
DESCRIPTION:Andres A. Marquez\, Veteran \nUSMC  – Vietnam \nDenver\, Colorado – 02 Feb 2017\n\n[HR][/HR]\nABOUT THE MISSION: \nThe Patriot Guard Riders have been invited to stand in honor for Andres  A. Marquez\, US Marine Corps\, at his interment service on Thursday\,  February 2\, 2017 at Fort Logan National Cemetery\, 3698 South Sheridan  Blvd\, Denver at 11:00 AM\, Pavilion A. \nMr. Marquez was born on June 1\, 1943 and passed away on January 28\,  2017. He served in the Marine Corps from June\, 1960 until June\, 1966 and  served aboard a ship stationed near Viet Nam. \nPRIMARY STAGING DETAILS:  02 Feb 2017 \n \nPrimary Staging Time:  10:15 A.M.\n\nFort Logan National Cemetery\nVisitors Center\n3698 South Sheridan Blvd.\n\nDenver\, Colorado – 80236\n\n\n\n\n \n \nRide Captain:\n\nWill an available Ride Captain please contact: \nLisa Menard\nState Captain\nCOSC@patriotguard.org\n720-838-3692\n\n \n \nSpecial Instructions:\n\n10:15 AM – Stage at the Fort Logan Visitors Center\n10:30 AM – Briefing\n10:45 AM – Depart for Pavilion A to set the flag line\n\n \n \nFlags & Water:\n\nFlags Will Be Provided\n\nLarge Bike Flags will NOT be needed.\n\nWater will be provided.\n\nSubmitted By:  Lisa Menard\nPosition:  State Captain \n[HR][/HR]\nNote:\nYou do not have to own/ride a motorcycle or be a Veteran to join and membership is Free. The only requirement is RESPECT! To join\, simply go to Patriot Guard website and click on Register. Membership is Free. \nTo subscribe to receive mission notices\, log into the National Site and  click on the Mission Tab at the top. Select Upcoming Missions by State.  Scroll to the state(s) you would like to receive notices for and click  on the green check mark. Detailed instructions are also located in the  FAQs on the site by clicking on the Quick Links Tab and selecting FAQs.
URL:https://www.patriotguard.org/mission/andres-a-marquez-veteran-usmc-vietnam/
END:VEVENT
END:VCALENDAR