BEGIN:VCALENDAR
VERSION:2.0
PRODID:-//Patriot Guard Riders - ECPv5.3.2.1//NONSGML v1.0//EN
CALSCALE:GREGORIAN
METHOD:PUBLISH
X-WR-CALNAME:Patriot Guard Riders
X-ORIGINAL-URL:https://www.patriotguard.org
X-WR-CALDESC:Events for Patriot Guard Riders
BEGIN:VTIMEZONE
TZID:America/New_York
BEGIN:DAYLIGHT
TZOFFSETFROM:-0500
TZOFFSETTO:-0400
TZNAME:EDT
DTSTART:20190310T070000
END:DAYLIGHT
BEGIN:STANDARD
TZOFFSETFROM:-0400
TZOFFSETTO:-0500
TZNAME:EST
DTSTART:20191103T060000
END:STANDARD
END:VTIMEZONE
BEGIN:VEVENT
DTSTART;VALUE=DATE:20190815
DTEND;VALUE=DATE:20190816
DTSTAMP:20210402T191005
CREATED:20190814T134731Z
LAST-MODIFIED:20190814T134731Z
UID:170735-1565827200-1565913599@www.patriotguard.org
SUMMARY:Anatomical Service for 4 Veterans
DESCRIPTION:Honor Mission\nAnatomical Service for 4 Veterans\, Veteran\nUSA USN USAF\nSuffolk\, Virginia – 08-15-19\n\n\n\nABOUT THE MISSION: \nThe Patriot Guard Riders will provide silent service for four (4) veterans. We will be providing individual escorts for these veterans who donated their bodies to science and will now go to their final resting place at Albert G. Horton Jr. Cemetery. Anatomical Service: SP5 Donald Lee Mapp – USA. FTG3 Bernard McGarvey – USN\, AB Chester Michael Panek – USAF\, SP4 Roy Lee Thaker – USA\n\n\nPRIMARY STAGING DETAILS: 08-15-19 \nStaging Time: 8:00 am  \nAlbert G. Horton Cemetery\n5310 Milners RoadAdministration Building\nSuffolk\, Virginia 23434\n(Check your emails for possible change in location)\n\n\nRide Captain: \nBill “Hotel 6” Strasburg\nmrbill6970@hotmail.com\n(210) 238-7897\n\nMike “Handlebar” Nugent\nxdvr1@verizon.net\n757-327-8281\n\nClifford “Munk” Peacock\ncpeacock26@cox.net\n\n\nSpecial Instructions: \nMemorial Service will be at 9:00 am\n• Specifics about this mission will be covered at the brief.\n• White gloves will be used.\n• Military honors will be provided.\nAny questions\, please contact the a listed Ride Captain\n\n\nFlags & Water:\nFlags will be provided\nLarge Bike Flags will NOT be needed.\nWater WILL NOT be provided\, please bring your own.\n\nSubmitted By: Wayne Anderson \nPosition: Virginia Assistant State Captain \n\nNote: You do not have to own/ride a motorcycle or be a veteran to join\, and membership is Free. The only requirement is RESPECT! To subscribe to receive mission notices\, log into the National Site and click on the Members tab at the top. Select the Subscribe to PGR Missions option.\n Print This Page
URL:https://www.patriotguard.org/mission/anatomical-service-for-4-veterans/
CATEGORIES:Honor Mission
END:VEVENT
END:VCALENDAR