BEGIN:VCALENDAR
VERSION:2.0
PRODID:-//Patriot Guard Riders - ECPv5.6.0//NONSGML v1.0//EN
CALSCALE:GREGORIAN
METHOD:PUBLISH
X-WR-CALNAME:Patriot Guard Riders
X-ORIGINAL-URL:https://www.patriotguard.org
X-WR-CALDESC:Events for Patriot Guard Riders
BEGIN:VTIMEZONE
TZID:America/New_York
BEGIN:DAYLIGHT
TZOFFSETFROM:-0500
TZOFFSETTO:-0400
TZNAME:EDT
DTSTART:20160313T070000
END:DAYLIGHT
BEGIN:STANDARD
TZOFFSETFROM:-0400
TZOFFSETTO:-0500
TZNAME:EST
DTSTART:20161106T060000
END:STANDARD
END:VTIMEZONE
BEGIN:VEVENT
DTSTART;TZID=America/New_York:20160531T090000
DTEND;TZID=America/New_York:20160531T110000
DTSTAMP:20210513T181728
CREATED:20160531T130000Z
LAST-MODIFIED:20191201T145554Z
UID:411722-1464685200-1464692400@www.patriotguard.org
SUMMARY:American Heroes Without Families / Miramar National Cemetery
DESCRIPTION:The PGR will honor Veterans Without Family by being at\, and participating in\, the Veteran’s Full Military Honors funeral ceremonies — we will stand in for the families who can’t be there. A Flag Line will honor the Veterans as we show our appreciation and respect for their military service.\n\nMay the souls of these veterans rest in peace beneath the green carpet of grass in a Nation they helped to keep free. \nNOTE: This mission posting is to facilitate your voluntary participation in honoring these Military Veterans.  For those interested\, and all are welcome\, please see time table below. \nTime Table for Tuesday\, 31 May 2016:\n0800 – Stage at Miramar National Cemetery\, 5795 Nobel Dr.\, San Diego\, CA -Flag Assembly Area.     http://goo.gl/maps/rAfUs\n0815 – Mission briefing\n0830 – Form Flag Line\n0845 – Funeral Ceremony with Military Honors\n\nR/C Ken “Santa” Brassell\nkenbrassell@gmail.com\n619-333-9685\n\nYou do not have to be a Veteran or a motorcycle rider to attend this mission.  Everyone is welcome.  We encourage those who do not ride to attend in your car.  If this will be your first mission go to the initial staging area and you will be briefed there by the R/C (Ride Captain).  Dress for motorcycle riding or dress casually if you are driving a cage (car).
URL:https://www.patriotguard.org/mission/american-heroes-without-families-miramar-national-cemetery/
CATEGORIES:Archive
END:VEVENT
END:VCALENDAR