BEGIN:VCALENDAR
VERSION:2.0
PRODID:-//Patriot Guard Riders - ECPv5.3.2.1//NONSGML v1.0//EN
CALSCALE:GREGORIAN
METHOD:PUBLISH
X-WR-CALNAME:Patriot Guard Riders
X-ORIGINAL-URL:https://www.patriotguard.org
X-WR-CALDESC:Events for Patriot Guard Riders
BEGIN:VTIMEZONE
TZID:America/New_York
BEGIN:DAYLIGHT
TZOFFSETFROM:-0500
TZOFFSETTO:-0400
TZNAME:EDT
DTSTART:20170312T070000
END:DAYLIGHT
BEGIN:STANDARD
TZOFFSETFROM:-0400
TZOFFSETTO:-0500
TZNAME:EST
DTSTART:20171105T060000
END:STANDARD
END:VTIMEZONE
BEGIN:VEVENT
DTSTART;TZID=America/New_York:20171004T083000
DTEND;TZID=America/New_York:20171004T103000
DTSTAMP:20210405T201803
CREATED:20171004T123000Z
LAST-MODIFIED:20191201T034531Z
UID:342789-1507105800-1507113000@www.patriotguard.org
SUMMARY:American Heroes Honors Ceremony\, Veteran\,
DESCRIPTION:American Heroes Honors Ceremony\, Veteran\nUSA\, USN\, USMC\, USCG\, USAF\nCecil Township\, Pennsylvania – 04 Oct 2017\n\n\n[HR][/HR]\nABOUT THE MISSION: \n\nThe National Cemetery of the Alleghenies  has invited the Patriot Guard Riders to Stand in Silent Honor at the  military honors ceremony for the veterans that have been interred at the  cemetery the past month without military honors. Note that this is a  recurring mission held on the first Wednesday of every month.\n\n\nPRIMARY STAGING DETAILS:  04 Oct 2017\nPrimary Staging Time: 8:30 A.M. \n\nNational Cemetery of the Alleghenies\n1158 Morgan Rd\nCecil Township\, Pennsylvania – 15017\nhttps://goo.gl/maps/PJYsN\n\n\nRide Captain: \n\nWest Aaron Zeff\ndelta@cobweb.net\n(724) 587-5626\n\n\nSpecial Instructions: \n\nAt the cemetery Welcome Center. \n***​​Please stay at the Welcome Center​​ ​​​till​​ after the ​​Mission  Briefing\, once the Briefing is over\, we will all go as a group for the  Interment.***​​ \n​​​Flag Line: 9:00 AM \nNational Cemetery of the Alleghenies\n1158 Morgan Rd\, Cecil Township (Bridgeville)\, PA 15017\nhttps://goo.gl/maps/PJYsN \nRemember that the National Cemetery is a Federal Reservation and NO WEAPONS are permitted. \nWatch The Weather\, Dress Accordingly​ & Hydrate.\n \n\nFlags & Water: \n\nFlags Will NOT Be Provided\, Please Bring Your Own.\nLarge Bike Flags will NOT be needed.\nWater WILL NOT be provided\, please bring your own.\n\n\nSubmitted By: Marcy Sorensen\nPosition: Ride Captain\n[HR][/HR]Note:\nYou do not have to own/ride a motorcycle or be a Veteran to join and membership is Free. The only requirement is RESPECT! To join\, simply go to www.PatriotGuard.org and click on Register. Membership is Free. \nTo subscribe to receive mission notices\, log into the National Site and click on the Mission Tab at the top. Select the Subscribe to Missions option.
URL:https://www.patriotguard.org/mission/american-heroes-honors-ceremony-veteran/
END:VEVENT
END:VCALENDAR