BEGIN:VCALENDAR
VERSION:2.0
PRODID:-//Patriot Guard Riders - ECPv5.3.2.1//NONSGML v1.0//EN
CALSCALE:GREGORIAN
METHOD:PUBLISH
X-WR-CALNAME:Patriot Guard Riders
X-ORIGINAL-URL:https://www.patriotguard.org
X-WR-CALDESC:Events for Patriot Guard Riders
BEGIN:VTIMEZONE
TZID:America/New_York
BEGIN:DAYLIGHT
TZOFFSETFROM:-0500
TZOFFSETTO:-0400
TZNAME:EDT
DTSTART:20190310T070000
END:DAYLIGHT
BEGIN:STANDARD
TZOFFSETFROM:-0400
TZOFFSETTO:-0500
TZNAME:EST
DTSTART:20191103T060000
END:STANDARD
END:VTIMEZONE
BEGIN:VEVENT
DTSTART;VALUE=DATE:20190703
DTEND;VALUE=DATE:20190704
DTSTAMP:20210404T035747
CREATED:20190627T184231Z
LAST-MODIFIED:20190627T184231Z
UID:166027-1562112000-1562198399@www.patriotguard.org
SUMMARY:American Heroes Honors Ceremony
DESCRIPTION:Honor Mission\nAmerican Heroes Honors Ceremony\, Veteran\nUSA USMC USN USAF USCG –\nCecil Township\, Pennsylvania – 07-03-19\n\n\n\nABOUT THE MISSION: \nThe National Cemetery of the Alleghenies has invited the Patriot Guard Riders to stand in silent honor for veterans that have been interred at the cemetery the past month without military honors. Note that this is a recurring mission held on the first Wednesday of every month. They stood for us\, now its our turn to stand for them.\n\n\nPRIMARY STAGING DETAILS: 07-03-19 \nStaging Time: 08:30 AM\n \nNational Cemetery of the Alleghenies Welcome Center\n1158 Morgan Rd\nCecil Township\, Pennsylvania 15017\nMap\n\n\nRide Captain: \nAaron Zeff\npgrpa.asc.west@gmail.com\n(724) 587-5626\n\n\nSpecial Instructions: \n***Please stay at the Welcome Center till after the Mission Briefing\, once the Briefing is over\, we will all go as a group for the interment.***\nFlag Line: 9:00 AM\nMembers can attend all of a mission or any part of the mission. PGR sets no time for a member to escort and or stand a mission. We Thank you for whatever time you give us and the families of our heroes appreciate your time.\nRemember that the National Cemetery is a Federal Reservation and NO WEAPONS are permitted.\nThis time of year deer are on the move\, please be aware & alert of your surroundings also before heading out\, please watch the weather\, dress accordingly and hydrate.\n\n\nFlags & Water:\nFlags will not be provided\nLarge Bike Flags will NOT be needed.\nWater WILL NOT be provided\, please bring your own.\n\n\n\n\nSubmitted By: Marcy Sorensen \nPosition: Pennsylvania Ride Captain \n\nNote: You do not have to own/ride a motorcycle or be a veteran to join\, and membership is Free. The only requirement is RESPECT! To subscribe to receive mission notices\, log into the National Site and click on the Members tab at the top. Select the Subscribe to PGR Missions option.\n Print This Page
URL:https://www.patriotguard.org/mission/american-heroes-honors-ceremony-7/
CATEGORIES:Honor Mission
END:VEVENT
END:VCALENDAR