BEGIN:VCALENDAR
VERSION:2.0
PRODID:-//Patriot Guard Riders - ECPv5.6.0//NONSGML v1.0//EN
CALSCALE:GREGORIAN
METHOD:PUBLISH
X-WR-CALNAME:Patriot Guard Riders
X-ORIGINAL-URL:https://www.patriotguard.org
X-WR-CALDESC:Events for Patriot Guard Riders
BEGIN:VTIMEZONE
TZID:America/New_York
BEGIN:DAYLIGHT
TZOFFSETFROM:-0500
TZOFFSETTO:-0400
TZNAME:EDT
DTSTART:20160313T070000
END:DAYLIGHT
BEGIN:STANDARD
TZOFFSETFROM:-0400
TZOFFSETTO:-0500
TZNAME:EST
DTSTART:20161106T060000
END:STANDARD
END:VTIMEZONE
BEGIN:VEVENT
DTSTART;TZID=America/New_York:20160825T090000
DTEND;TZID=America/New_York:20160825T110000
DTSTAMP:20210511T190200
CREATED:20160825T130000Z
LAST-MODIFIED:20191201T143450Z
UID:409792-1472115600-1472122800@www.patriotguard.org
SUMMARY:American Heroes\, Grandfather and Son
DESCRIPTION:Robert J. Brinker & Raymond L. Ficek\nU.S. Army\nHolly\, MI 48422\n\n\n\nDATE:  25 August  2016\, Thursday \nThe Family of Raymond  L. Ficek U.S. Army and Robert J. Brinker U.S. Army has invited the Patriot Guard Riders to Stand in Honor of their service to our country. \nRaymond served for a period of 3 months 20 days. Robert served for a period of 1 year 9 months 29 days. Robert’s awards and decorations include the National Defense Service Medal and the Army Commendation Medal. \nStaging: \nHolly-McDonald’s\n15187 N. Holly Rd.\nHolly\, MI 48442\nMap: http://mapq.st/1cYR9nJ \nSTAGE: 8:45 AM \nBRIEFING: 9:15 AM \nKSU: 9:30 AM \nPlease bring your 3’ x 5’ American Flag to Stand for Mr. Ficek and Mr. Brinker \nPlease dress for the weather. \nRIDE CAPTAIN: “Patches”\n810-348-0809
URL:https://www.patriotguard.org/mission/american-heroes-grandfather-and-son/
CATEGORIES:Archive
END:VEVENT
END:VCALENDAR