BEGIN:VCALENDAR
VERSION:2.0
PRODID:-//Patriot Guard Riders - ECPv5.3.2.1//NONSGML v1.0//EN
CALSCALE:GREGORIAN
METHOD:PUBLISH
X-WR-CALNAME:Patriot Guard Riders
X-ORIGINAL-URL:https://www.patriotguard.org
X-WR-CALDESC:Events for Patriot Guard Riders
BEGIN:VTIMEZONE
TZID:America/New_York
BEGIN:DAYLIGHT
TZOFFSETFROM:-0500
TZOFFSETTO:-0400
TZNAME:EDT
DTSTART:20170312T070000
END:DAYLIGHT
BEGIN:STANDARD
TZOFFSETFROM:-0400
TZOFFSETTO:-0500
TZNAME:EST
DTSTART:20171105T060000
END:STANDARD
END:VTIMEZONE
BEGIN:VEVENT
DTSTART;TZID=America/New_York:20170910T094500
DTEND;TZID=America/New_York:20170910T114500
DTSTAMP:20210406T010639
CREATED:20170910T134500Z
LAST-MODIFIED:20191201T035746Z
UID:349172-1505036700-1505043900@www.patriotguard.org
SUMMARY:American Heroes\, EMS/EMT\, Fire\, LEO
DESCRIPTION:American Heroes\nEMS/EMT\, Fire\, LEO\nRichmond\, Virginia – 10 Sep 2017\n\n\n[HR][/HR]\nABOUT THE MISSION: \n\nWe supported this ride last year and had a great turn out hope you all can do it again. \nRenegade Classics is again sponsoring a ride to the 911 Memorial in  Goochland on Sunday\, September 10th.  If you did not attend last year  the memorial at the Fire Station is awesome.  There is an actual part of  the Twin Towers (steel beam) that has been placed there.\n \n\nPRIMARY STAGING DETAILS:  10 Sep 2017\nPrimary Staging Time: 9:45 A.M. \n\nRenegade Classics\n7590 W. Broad Street\nMerchants Walk Shopping Center\nRichmond\, Virginia – 23294\n\n\nRide Captain: \n\nJim “DaBears” McGinley\, jbmcginley48@msn.com 757-768-2437 \nAssistant:  Brian Collings / Melanie Spangler / Bobby Lipes / Hugh Horne\n \n\nSpecial Instructions:\n\nFlags & Water: \n\nFlags Will Be Provided\nIf you have large bike flags\, please bring them.\nWater WILL NOT be provided\, please bring your own.\n\n\nSubmitted By: Jim McGinley\nPosition: Assistant State Captain\n[HR][/HR]Note:\nYou do not have to own/ride a motorcycle or be a Veteran to join and membership is Free. The only requirement is RESPECT! To join\, simply go to www.PatriotGuard.org and click on Register. Membership is Free. \nTo subscribe to receive mission notices\, log into the National Site and click on the Mission Tab at the top. Select the Subscribe to Missions option.
URL:https://www.patriotguard.org/mission/american-heroes-ems-emt-fire-leo/
END:VEVENT
END:VCALENDAR