BEGIN:VCALENDAR
VERSION:2.0
PRODID:-//Patriot Guard Riders - ECPv5.3.2.1//NONSGML v1.0//EN
CALSCALE:GREGORIAN
METHOD:PUBLISH
X-WR-CALNAME:Patriot Guard Riders
X-ORIGINAL-URL:https://www.patriotguard.org
X-WR-CALDESC:Events for Patriot Guard Riders
BEGIN:VTIMEZONE
TZID:America/New_York
BEGIN:DAYLIGHT
TZOFFSETFROM:-0500
TZOFFSETTO:-0400
TZNAME:EDT
DTSTART:20180311T070000
END:DAYLIGHT
BEGIN:STANDARD
TZOFFSETFROM:-0400
TZOFFSETTO:-0500
TZNAME:EST
DTSTART:20181104T060000
END:STANDARD
END:VTIMEZONE
BEGIN:VEVENT
DTSTART;VALUE=DATE:20181010
DTEND;VALUE=DATE:20181011
DTSTAMP:20210404T120509
CREATED:20181007T213947Z
LAST-MODIFIED:20181007T213947Z
UID:136383-1539129600-1539215999@www.patriotguard.org
SUMMARY:American Heroes
DESCRIPTION:Honor Mission\nAmerican Heroes\nSarasota\, Florida – 10-10-18\n\n\n\n\nABOUT THE MISSION: \nSarasota National Cemetery will have a service for all those heroes who were laid to rest during the month of September\, who didn’t receive military honors.  These heroes served our great nation and us\, this is our turn to stand for these heroes.  Please bring your 3×5 American Flags and stand while these heroes receive their military honors.\n\n\nPRIMARY STAGING DETAILS: 10-10-18 \nStaging Time: 8:30 a.m. \nSarasota National Cemetery\n9810 SR 72\nSarasota\, Florida 34241\n\n\nRide Captain: \nWilliam Franklin\ngulfrader@comcast.net\n941-350-2547\n\n\nSpecial Instructions: \nBrief:  8:45 a.m.\nService:  9:00 a.m.\n\n\nFlags & Water:\nFlags will not be provided\nLarge bike flags will not be needed.\nWater will not be provided\, please bring your own.\n\n\nSubmitted By: Henry Hyde \nPosition: Florida Assistant State Captain \n\nNote: You do not have to own/ride a motorcycle or be a veteran to join\, and membership is Free. The only requirement is RESPECT! To subscribe to receive mission notices\, log into the National Site and click on the Members tab at the top. Select the Subscribe to PGR Missions option.\n Print This Page
URL:https://www.patriotguard.org/mission/american-heroes-63/
CATEGORIES:Honor Mission
END:VEVENT
END:VCALENDAR