BEGIN:VCALENDAR
VERSION:2.0
PRODID:-//Patriot Guard Riders - ECPv5.3.2.1//NONSGML v1.0//EN
CALSCALE:GREGORIAN
METHOD:PUBLISH
X-WR-CALNAME:Patriot Guard Riders
X-ORIGINAL-URL:https://www.patriotguard.org
X-WR-CALDESC:Events for Patriot Guard Riders
BEGIN:VTIMEZONE
TZID:America/New_York
BEGIN:DAYLIGHT
TZOFFSETFROM:-0500
TZOFFSETTO:-0400
TZNAME:EDT
DTSTART:20190310T070000
END:DAYLIGHT
BEGIN:STANDARD
TZOFFSETFROM:-0400
TZOFFSETTO:-0500
TZNAME:EST
DTSTART:20191103T060000
END:STANDARD
END:VTIMEZONE
BEGIN:VEVENT
DTSTART;VALUE=DATE:20190724
DTEND;VALUE=DATE:20190725
DTSTAMP:20210404T041506
CREATED:20190722T211157Z
LAST-MODIFIED:20190722T213825Z
UID:168503-1563926400-1564012799@www.patriotguard.org
SUMMARY:American Heroes
DESCRIPTION:Honor Mission\nHeroes without Family\, Veteran\nUSA\, USMC\nSarasota\, Florida – 07-24-19\n\n\n\nABOUT THE MISSION: \nSarasota National Cemetery will have a service for two heroes without family. Our first hero\,  a U.S. Army SGT\, served from 2-13-1961 to 02-12-1964. Our second hero\, a U.S. Marine Corps Pvt\, served from 2-19-1974 to 3-20-1974. These heroes served our great nation and us\, and it is our turn to stand for them.\nPlease bring your 3×5 American Flags and stand in silent respect for these heroes. Their names will be announced at the service.\n\n\nPRIMARY STAGING DETAILS: 07-24-19 \nStaging Time: 11:00 AM\n \nSarasota National Cemetery\n9810 SR 75\nSarasota\, Florida 34241\nMap\n\n\nRide Captain: \nBlair McFarlane\n518-527-0588\nflockeydad@hotmail.com\n\n\nSpecial Instructions: \nStage    11:00 AM\nBrief      11:15 AM\nService 11:30 AM\n\nFlags & Water:\nFlags will not be provided.\nIf you have large bike flags\, please bring them.\nWater WILL NOT be provided\, please bring your own.\n\n\nSubmitted By: William Franklin \nPosition: Florida Ride Captain \n\nNote: You do not have to own/ride a motorcycle or be a veteran to join\, and membership is Free. The only requirement is RESPECT! To subscribe to receive mission notices\, log into the National Site and click on the Members tab at the top. Select the Subscribe to PGR Missions option.\n Print This Page
URL:https://www.patriotguard.org/mission/american-heroes-179/
CATEGORIES:Honor Mission
END:VEVENT
END:VCALENDAR