BEGIN:VCALENDAR
VERSION:2.0
PRODID:-//Patriot Guard Riders - ECPv5.3.2.1//NONSGML v1.0//EN
CALSCALE:GREGORIAN
METHOD:PUBLISH
X-WR-CALNAME:Patriot Guard Riders
X-ORIGINAL-URL:https://www.patriotguard.org
X-WR-CALDESC:Events for Patriot Guard Riders
BEGIN:VTIMEZONE
TZID:America/New_York
BEGIN:DAYLIGHT
TZOFFSETFROM:-0500
TZOFFSETTO:-0400
TZNAME:EDT
DTSTART:20190310T070000
END:DAYLIGHT
BEGIN:STANDARD
TZOFFSETFROM:-0400
TZOFFSETTO:-0500
TZNAME:EST
DTSTART:20191103T060000
END:STANDARD
END:VTIMEZONE
BEGIN:VEVENT
DTSTART;VALUE=DATE:20190710
DTEND;VALUE=DATE:20190711
DTSTAMP:20210404T021427
CREATED:20190706T183239Z
LAST-MODIFIED:20190706T183239Z
UID:166762-1562716800-1562803199@www.patriotguard.org
SUMMARY:American Heroes
DESCRIPTION:Honor Mission\nAmerican Heroes\n–\nAmelia\, Virginia – 07-10-19\n\n\n\n\nABOUT THE MISSION: \nThe Patriot Guard Riders have been requested to stand in silent honor for three veterans\, that have passed away and have no family members that we know of\, to honor them for their service to our country. This day we will be their family. Their names and our destination will be revealed at the Mission Briefing.\n\n\nPRIMARY STAGING DETAILS: 07-10-19 \nStaging Time: 09:30  \n15418 Patrick Henry Hwy\nParking Lot\nAmelia\, Virginia 23002\n\n\nRide Captain: \nBobby Lipes\nbobbylipes3@gmail.com\n804-240-1869\n\n\nSpecial Instructions: \nBrief: 10:00am KSU: 10:10am\n\nFlags & Water:\nFlags will be provided\nLarge Bike Flags will NOT be needed.\nWater WILL NOT be provided\, please bring your own.\n\n\n\nSubmitted By: Jim McGinley \nPosition: Virginia Assistant State Captain \n\nNote: You do not have to own/ride a motorcycle or be a veteran to join\, and membership is Free. The only requirement is RESPECT! To subscribe to receive mission notices\, log into the National Site and click on the Members tab at the top. Select the Subscribe to PGR Missions option.\n Print This Page
URL:https://www.patriotguard.org/mission/american-heroes-176/
CATEGORIES:Honor Mission
END:VEVENT
END:VCALENDAR