BEGIN:VCALENDAR
VERSION:2.0
PRODID:-//Patriot Guard Riders - ECPv5.3.2.1//NONSGML v1.0//EN
CALSCALE:GREGORIAN
METHOD:PUBLISH
X-WR-CALNAME:Patriot Guard Riders
X-ORIGINAL-URL:https://www.patriotguard.org
X-WR-CALDESC:Events for Patriot Guard Riders
BEGIN:VTIMEZONE
TZID:America/New_York
BEGIN:DAYLIGHT
TZOFFSETFROM:-0500
TZOFFSETTO:-0400
TZNAME:EDT
DTSTART:20190310T070000
END:DAYLIGHT
BEGIN:STANDARD
TZOFFSETFROM:-0400
TZOFFSETTO:-0500
TZNAME:EST
DTSTART:20191103T060000
END:STANDARD
END:VTIMEZONE
BEGIN:VEVENT
DTSTART;VALUE=DATE:20190619
DTEND;VALUE=DATE:20190620
DTSTAMP:20210405T011347
CREATED:20190617T180227Z
LAST-MODIFIED:20190617T180227Z
UID:165002-1560902400-1560988799@www.patriotguard.org
SUMMARY:American Heroes
DESCRIPTION:Honor Mission\nAmerican Heroes\, Veteran\nUSA\, USMC – Korea\, Vietnam\nSarasota\, Florida – 06-19-19\n\n\n \n\nABOUT THE MISSION: \nSarasota National Cemetery will have a service for two heroes without family. The first hero\, a SPC in the US Army\, Vietnam\, served 4/18/67 to 3/15/69\, and the second hero\, a PVT in the USMC\, Korea\, served 5/13/53 to 8/28/57. Their names will be announced at the service. These heroes served our great nation and us\, and this is our turn to stand for them.\nPlease bring your 3×5 American Flags and stand in silent respect for these heroes.\n\n\nPRIMARY STAGING DETAILS: 06-19-19 \nStaging Time: 11:00 AM\n \nSarasota National Cemetery\n9810 SR 72 S\nSarasota\, Florida 34241\n\n\nRide Captain: \nBlair McFarlane\nflockeydad@hotmail.com\n518-527-0588\n\n\nSpecial Instructions: \nStage:   11:00 AM\nBrief:     11:15 AM\nService: 11:30 AM\nFlag line as determined by R/C\nHYDRATE HYDRATE HYDRATE\n\nFlags & Water:\nFlags will not be provided.\nLarge Bike Flags will NOT be needed.\nWater WILL NOT be provided\, please bring your own.\n\nSubmitted By: Henry Hyde \nPosition: Florida Assistant State Captain \n\nNote: You do not have to own/ride a motorcycle or be a veteran to join\, and membership is Free. The only requirement is RESPECT! To subscribe to receive mission notices\, log into the National Site and click on the Members tab at the top. Select the Subscribe to PGR Missions option.\n Print This Page
URL:https://www.patriotguard.org/mission/american-heroes-172/
CATEGORIES:Honor Mission
END:VEVENT
END:VCALENDAR