BEGIN:VCALENDAR
VERSION:2.0
PRODID:-//Patriot Guard Riders - ECPv5.6.0//NONSGML v1.0//EN
CALSCALE:GREGORIAN
METHOD:PUBLISH
X-WR-CALNAME:Patriot Guard Riders
X-ORIGINAL-URL:https://www.patriotguard.org
X-WR-CALDESC:Events for Patriot Guard Riders
BEGIN:VTIMEZONE
TZID:America/New_York
BEGIN:DAYLIGHT
TZOFFSETFROM:-0500
TZOFFSETTO:-0400
TZNAME:EDT
DTSTART:20160313T070000
END:DAYLIGHT
BEGIN:STANDARD
TZOFFSETFROM:-0400
TZOFFSETTO:-0500
TZNAME:EST
DTSTART:20161106T060000
END:STANDARD
END:VTIMEZONE
BEGIN:VEVENT
DTSTART;TZID=America/New_York:20160601T090000
DTEND;TZID=America/New_York:20160601T110000
DTSTAMP:20210513T153212
CREATED:20160601T130000Z
LAST-MODIFIED:20191201T145546Z
UID:411711-1464771600-1464778800@www.patriotguard.org
SUMMARY:American Hero\, 88
DESCRIPTION:American Hero\, 88\nU.S. Army / Veteran\nSarasota\, FL.\nWednesday\, June 1\, 2016\n\n\n\nSarasota National Cemetery will have a service for Hero without family.  Our hero was a SSG in the U.S. Army and served from 8/30/46 to 8/5/49\, 10/4/50 to 12/12/51 and then from 1/21/53 to 12/31/54. \nOur Hero was born on 6/9/28 passed on 5/3/16.  This Hero’s name will be revealed at service.  This Hero served our country and us\, it’s now time for us to stand in final respect for him. \nPlease bring your 3 x 5 American Flag and stand in silent Honor and Respect for our U.S. Army Veteran and be his family. \nItinerary:\nSarasota National Cemetery\n9810 SR 72\nSarasota\, FL. 34241 \nMap: https://goo.gl/VFLHd3 \nStage: 1030 hrs \nBrief: 1045 hrs \nFlag Line: As directed by R/C \nService: 1100 hrs \nRide Captain:\nKim McFarlane\nkimbo22762@hotmail.com\n518-527-1564 \nRespectfully submitted:\nDavid “Flyboy” Shelton\nFL ASC
URL:https://www.patriotguard.org/mission/american-hero-88/
CATEGORIES:Archive
END:VEVENT
END:VCALENDAR