BEGIN:VCALENDAR
VERSION:2.0
PRODID:-//Patriot Guard Riders - ECPv5.3.2.1//NONSGML v1.0//EN
CALSCALE:GREGORIAN
METHOD:PUBLISH
X-WR-CALNAME:Patriot Guard Riders
X-ORIGINAL-URL:https://www.patriotguard.org
X-WR-CALDESC:Events for Patriot Guard Riders
BEGIN:VTIMEZONE
TZID:America/New_York
BEGIN:DAYLIGHT
TZOFFSETFROM:-0500
TZOFFSETTO:-0400
TZNAME:EDT
DTSTART:20190310T070000
END:DAYLIGHT
BEGIN:STANDARD
TZOFFSETFROM:-0400
TZOFFSETTO:-0500
TZNAME:EST
DTSTART:20191103T060000
END:STANDARD
END:VTIMEZONE
BEGIN:VEVENT
DTSTART;VALUE=DATE:20190909
DTEND;VALUE=DATE:20190910
DTSTAMP:20210401T104605
CREATED:20190908T121849Z
LAST-MODIFIED:20190908T121849Z
UID:173036-1567987200-1568073599@www.patriotguard.org
SUMMARY:Amado Chavez
DESCRIPTION:Honor Mission\nAmado Chavez \, Veteran\nUSA – \, WWII\nEl Paso\, Texas – 09-09-19\n\n\n\n\nABOUT THE MISSION: \nThe family of Cpl Amado Chavez have requested the  Patriot Guard Riders to render honors for his interment. Services for Cpl Amado Chavez are entrusted to Perches Funeral Home East 2280 Joe Battle Blvd\, El Paso\, TX 79938 Cpl Chavez served our nation as a Field Lineman 641 in Normandy earning the Purple Heart\, European-African-Middle Eastern Campaign Medal w/1 Bronze Service Star\, American Theater Ribbon\, WWII Victory Medal and the Combat Infantry Badge. Cpl Chavez was wounded in action on July 14\, 1941 in France\n\n\nPRIMARY STAGING DETAILS: 09-09-19 \nStaging Time: 10:00  \nFort Bliss National Cemetery\n5200 Fred Wilson Ave.\nEl Paso\, Texas 79906\n\n\nRide Captain: \nVaughn Nelson\n(915) 667-9992\nfwtpgrmissions@gmail.com\n\n\n\nSpecial Instructions: \n.Staging: 10:00 am Briefing: 10:15 am Flag line: 10:30 am Interment: 10:30 am East Shelter\n\nFlags & Water:\nFlags will be provided\nLarge Bike Flags will NOT be needed.\nWater will be provided.\n\n\n\n\nSubmitted By: Vaughn Nelson \nPosition: Texas Ride Captain \n\nNote: You do not have to own/ride a motorcycle or be a veteran to join\, and membership is Free. The only requirement is RESPECT! To subscribe to receive mission notices\, log into the National Site and click on the Members tab at the top. Select the Subscribe to PGR Missions option.\n Print This Page
URL:https://www.patriotguard.org/mission/amado-chavez/
CATEGORIES:Honor Mission
END:VEVENT
END:VCALENDAR