BEGIN:VCALENDAR
VERSION:2.0
PRODID:-//Patriot Guard Riders - ECPv5.3.2.1//NONSGML v1.0//EN
CALSCALE:GREGORIAN
METHOD:PUBLISH
X-WR-CALNAME:Patriot Guard Riders
X-ORIGINAL-URL:https://www.patriotguard.org
X-WR-CALDESC:Events for Patriot Guard Riders
BEGIN:VTIMEZONE
TZID:America/New_York
BEGIN:DAYLIGHT
TZOFFSETFROM:-0500
TZOFFSETTO:-0400
TZNAME:EDT
DTSTART:20190310T070000
END:DAYLIGHT
BEGIN:STANDARD
TZOFFSETFROM:-0400
TZOFFSETTO:-0500
TZNAME:EST
DTSTART:20191103T060000
END:STANDARD
END:VTIMEZONE
BEGIN:VEVENT
DTSTART;VALUE=DATE:20190815
DTEND;VALUE=DATE:20190816
DTSTAMP:20210402T112401
CREATED:20190814T134135Z
LAST-MODIFIED:20190814T134135Z
UID:170835-1565827200-1565913599@www.patriotguard.org
SUMMARY:Alycia Maria Lopez
DESCRIPTION:Honor Mission\nAlycia Maria Lopez\, Active Duty\nUSA – WoT\nHolly\, Michigan – 08-15-19\n\n\n\nABOUT THE MISSION: \nThe Patriot Guard Riders will stand a silent flag line to honor the service of PFC Alycia Maria Lopez\, 20 to our country. She passed away 7 August 2019 in Texas. She served in the United States Army.\nObituary: https://www.wintfuneralhome.com/obituary/alycia-lopez\n\n\nPRIMARY STAGING DETAILS: 08-15-19 \nStaging Time: 12:50 pm  \nMcDonalds Holly\n15187 N. Holly Road\nHolly\, Michigan 48442\nhttps://www.google.com/maps/place/15187+N+Holly+Rd\,+Holly\,+MI+48442/@42.8089635\,-83.6309654\,16.62z/data=!4m5!3m4!1s0x882362fbc6590241:0x4ff5bef1dcf7ef1b!8m2!3d42.8095027!4d-83.6276515\n\n\nRide Captain: \n“Viper”\n586-873-5096\nkta422@hotmail.com\n\n\nSpecial Instructions: \nBriefing: 1:20 PM\nKSU: 1:35 PM\nService: 2:00 PM\nPlease bring your 3′ X 5′ American flags to honor PFC Lopez\n\n\nFlags & Water:\nFlags will not be provided\nLarge Bike Flags will NOT be needed.\nWater WILL NOT be provided\, please bring your own.\n\nSubmitted By: Kenneth Talant \nPosition: Michigan Assistant State Captain \n\nNote: You do not have to own/ride a motorcycle or be a veteran to join\, and membership is Free. The only requirement is RESPECT! To subscribe to receive mission notices\, log into the National Site and click on the Members tab at the top. Select the Subscribe to PGR Missions option.\n Print This Page
URL:https://www.patriotguard.org/mission/alycia-maria-lopez/
CATEGORIES:Honor Mission
END:VEVENT
END:VCALENDAR