BEGIN:VCALENDAR
VERSION:2.0
PRODID:-//Patriot Guard Riders - ECPv5.3.2.1//NONSGML v1.0//EN
CALSCALE:GREGORIAN
METHOD:PUBLISH
X-WR-CALNAME:Patriot Guard Riders
X-ORIGINAL-URL:https://www.patriotguard.org
X-WR-CALDESC:Events for Patriot Guard Riders
BEGIN:VTIMEZONE
TZID:America/New_York
BEGIN:DAYLIGHT
TZOFFSETFROM:-0500
TZOFFSETTO:-0400
TZNAME:EDT
DTSTART:20190310T070000
END:DAYLIGHT
BEGIN:STANDARD
TZOFFSETFROM:-0400
TZOFFSETTO:-0500
TZNAME:EST
DTSTART:20191103T060000
END:STANDARD
END:VTIMEZONE
BEGIN:VEVENT
DTSTART;VALUE=DATE:20190909
DTEND;VALUE=DATE:20190910
DTSTAMP:20210401T105339
CREATED:20190907T172943Z
LAST-MODIFIED:20190907T172943Z
UID:173049-1567987200-1568073599@www.patriotguard.org
SUMMARY:Alvin Shiffert
DESCRIPTION:Honor Mission\nAlvin Shiffert \, Retired\nUSA – \, Vietnam\nSt Charles\, Missouri – 09-09-19\n\n\n\n\nABOUT THE MISSION: \nThe family of Al “Colonel” Shiffert has requested the Patriot Guard to stand a flag line before his memorial service. We will then escort family and friends to Jefferson Barracks National Cemetery\, where well deserved military honors will take place. LTC Shiffert retired from the United States Army\, serving for over 22 years and in the Vietnam war. He served over 6 years in foreign service. After retiring from the US Army\, he started his career in education at CBC where he was affectionately referred to as “The Colonel”. While teaching at CBC\, Al taught ROTC\, Honors English\, Terrorism\, Vietnam\, War Between Wars\, and was an assistant basketball coach.We thank you for you service and are honored to stand for “The Colonel” as he once stood for us.\n\n\nPRIMARY STAGING DETAILS: 09-09-19 \nStaging Time: 08:30  \nHutchens-Stygar Funeral Home\n5987 Mid Rivers Mall Dr\nSt Charles\, Missouri 63304\n\n\nRide Captain: \nNeil “Nitehawk” Hill\nnitehawk.pgr@gmail.com\n314-808-2568\n\n\nSpecial Instructions: \nRide meeting to follow staging. Flag line until the start of memorial service at 9:30 am. We will escort family and friends to Jefferson Barracks National Cemetery\, 11:30 am ETA. Flag and support provided by Danny “Wolfman” Reinbold Weather is expected to be sunny with a high of 90 degrees. It will be important to stay hydrated during this mission.\n\nFlags & Water:\nFlags will be provided\nIf you have large bike flags\, please bring them.\nWater will be provided.\n\n\n\n\nSubmitted By: Neil Hill \nPosition: Missouri Ride Captain \n\nNote: You do not have to own/ride a motorcycle or be a veteran to join\, and membership is Free. The only requirement is RESPECT! To subscribe to receive mission notices\, log into the National Site and click on the Members tab at the top. Select the Subscribe to PGR Missions option.\n Print This Page
URL:https://www.patriotguard.org/mission/alvin-shiffert/
CATEGORIES:Honor Mission
END:VEVENT
END:VCALENDAR