BEGIN:VCALENDAR
VERSION:2.0
PRODID:-//Patriot Guard Riders - ECPv5.6.0//NONSGML v1.0//EN
CALSCALE:GREGORIAN
METHOD:PUBLISH
X-WR-CALNAME:Patriot Guard Riders
X-ORIGINAL-URL:https://www.patriotguard.org
X-WR-CALDESC:Events for Patriot Guard Riders
BEGIN:VTIMEZONE
TZID:America/New_York
BEGIN:DAYLIGHT
TZOFFSETFROM:-0500
TZOFFSETTO:-0400
TZNAME:EDT
DTSTART:20160313T070000
END:DAYLIGHT
BEGIN:STANDARD
TZOFFSETFROM:-0400
TZOFFSETTO:-0500
TZNAME:EST
DTSTART:20161106T060000
END:STANDARD
END:VTIMEZONE
BEGIN:VEVENT
DTSTART;TZID=America/New_York:20160624T090000
DTEND;TZID=America/New_York:20160624T110000
DTSTAMP:20210513T160845
CREATED:20160624T130000Z
LAST-MODIFIED:20191201T144851Z
UID:411084-1466758800-1466766000@www.patriotguard.org
SUMMARY:Alvin Alexander\, 86\, USA
DESCRIPTION:Alvin Alexander\nKorean War Army\nSlidell Louisiana\, 06-24-2016\n\n \nMr. Alvin Alexander spent 3 years in the Army during the Korean war as a Military Police Officer. Upon returning home he was employed as a school teacher in St Tammany Parish untill his retirement. Mr. Alexander was 86 yrs young \nPRIMARY STAGING INFO – 06-24-2016:\n  Location:\nStarlight Missonary Baptist Church\n2100 2nd St\nSlidell Louisiana\n Staging Time:\n8:30 A.M. \n  Special Instructions:\nWe will assemble at the church at 8:30 to mount flags on rods. A riders meeting right after we will stand flag line at the door starting at 9 am till 11 am when a Mass will begin.  We will leave the church for the appointment at the Southeast Veterans Cemetery at 1 pm. \nRCIC:\nAlbert “Bamm Bamm” Davis Jr. – bammbamm256@yahoo.com \n  Assisting RCs:\nBen Talton – taltonjr@gmail.com \n    Flags will be provided.\nLarge bike flags will be needed. \nWeather: \nhot scattered showers stay hydrated
URL:https://www.patriotguard.org/mission/alvin-alexander-86-usa/
CATEGORIES:Archive
END:VEVENT
END:VCALENDAR