BEGIN:VCALENDAR
VERSION:2.0
PRODID:-//Patriot Guard Riders - ECPv5.3.2.1//NONSGML v1.0//EN
CALSCALE:GREGORIAN
METHOD:PUBLISH
X-WR-CALNAME:Patriot Guard Riders
X-ORIGINAL-URL:https://www.patriotguard.org
X-WR-CALDESC:Events for Patriot Guard Riders
BEGIN:VTIMEZONE
TZID:America/New_York
BEGIN:DAYLIGHT
TZOFFSETFROM:-0500
TZOFFSETTO:-0400
TZNAME:EDT
DTSTART:20190310T070000
END:DAYLIGHT
BEGIN:STANDARD
TZOFFSETFROM:-0400
TZOFFSETTO:-0500
TZNAME:EST
DTSTART:20191103T060000
END:STANDARD
END:VTIMEZONE
BEGIN:VEVENT
DTSTART;VALUE=DATE:20190727
DTEND;VALUE=DATE:20190728
DTSTAMP:20210403T190719
CREATED:20190726T225757Z
LAST-MODIFIED:20190726T225841Z
UID:168816-1564185600-1564271999@www.patriotguard.org
SUMMARY:Altamont Longhorn Days Parade
DESCRIPTION:HOTH Mission\nAltamont Longhorn Days Parade\nRoosevelt\, Utah – 07-27-19\n\n\n\nABOUT THE MISSION: \nThe Patriot Guard Riders have been requested to present the flag and stand a flag-line for the Altamont Longhorn Days Parade.  This will be a HOTH format.  The parade will start at the Altamont Veterans Memorial\, 15751 W 4000 N in Altamont\, at 10:00 AM on Saturday\, July 27\, 2019.  We will stand a flag-line across the street from the memorial while the flag is presented to the American Legion.  The American Legion will raise the flag indicating the start of the parade.  Anyone attending in a cage and willing to transport flags please contact Jeff Henderson at: 435-823-1955.\n\n\nPRIMARY STAGING DETAILS: 07-27-19 \nStaging: 9:00 AM\n \nChevron\n500 E 200 N\nRoosevelt\, Utah\n\n\nRide Captain: \nJeff Henderson\n435-823-1955\n\n\nSpecial Instructions: \nKSU: 9:15 AM\nWeather: Partly cloudy\, with a high of 82.  Please dress accordingly and keep yourself hydrated.\n\n\nFlags & Water:\nFlags will be provided\nIf you have large bike flags\, please bring them.\nWater WILL NOT be provided\, please bring your own.\n\nSubmitted By: Dave Richardson \nPosition: Utah State Captain \n\nNote: You do not have to own/ride a motorcycle or be a veteran to join\, and membership is Free. The only requirement is RESPECT! To subscribe to receive mission notices\, log into the National Site and click on the Members tab at the top. Select the Subscribe to PGR Missions option.\n Print This Page
URL:https://www.patriotguard.org/mission/altamont-longhorn-days-parade/
CATEGORIES:HOTH Mission
END:VEVENT
END:VCALENDAR