BEGIN:VCALENDAR
VERSION:2.0
PRODID:-//Patriot Guard Riders - ECPv5.3.2.1//NONSGML v1.0//EN
CALSCALE:GREGORIAN
METHOD:PUBLISH
X-WR-CALNAME:Patriot Guard Riders
X-ORIGINAL-URL:https://www.patriotguard.org
X-WR-CALDESC:Events for Patriot Guard Riders
BEGIN:VTIMEZONE
TZID:America/New_York
BEGIN:DAYLIGHT
TZOFFSETFROM:-0500
TZOFFSETTO:-0400
TZNAME:EDT
DTSTART:20170312T070000
END:DAYLIGHT
BEGIN:STANDARD
TZOFFSETFROM:-0400
TZOFFSETTO:-0500
TZNAME:EST
DTSTART:20171105T060000
END:STANDARD
END:VTIMEZONE
BEGIN:VEVENT
DTSTART;TZID=America/New_York:20170529T090000
DTEND;TZID=America/New_York:20170529T110000
DTSTAMP:20210401T231855
CREATED:20170529T130000Z
LAST-MODIFIED:20191201T033017Z
UID:332817-1496048400-1496055600@www.patriotguard.org
SUMMARY:Alliance Nebraska Memorial Day Ceremony
DESCRIPTION:Alliance Nebraska Memorial Day Ceremony \n\nAlliance\, Nebraska – 29 May 2017\n\n[HR][/HR]\nABOUT THE MISSION: \nThe City of Alliance has invited the Patriot Guard Riders to participate in the Memorial Day Ceremony Honoring our Veteran Heroes at 10 am MTN Time on Memorial Day\, Monday\, May 29th\, 2017\, at 5th St & Box Butte\, Alliance\, Nebraska. \nPlease stage at the corner of 5th and Box Butte at 9:00 am Mountain time across the street from the Memorial\nCeremony which is scheduled to begin at 10:00 am MTN. \nPLEASE FORWARD THIS MISSION NOTICE TO YOUR APPROPRIATE CONTACTS. \n\nPRIMARY STAGING DETAILS: 29 May 2017 \n \nPrimary Staging Time: 9:00 A.M.\n\nthe corner of 5th and Box Butte\nacross the street from the Memorial Ceremony\n\nAlliance\, Nebraska –\n\n\n\n \nRide Captain:\n\nCraig Barthel goldwinglvr@yahoo.com\n308-760-0884- cell\n308-762-2854- hm \nRich McCune rjlamc@charter.net\n308-760-1559-cell\n308-762-1155-home \nFLAG CAPTAIN:\nMary Barthel\n308-760-4129-cell\,\n308-762-2854-home\n\n \nSpecial Instructions:\n\nSTAGE DATE: MONDAY\, MAY 29\, 2017\nSTAGE LOCATION: 5th St & Box Butte\, Alliance\, Nebraska\nSTAGE TIME: 9:00 am MTN\nMission Briefing: 9:15 am MTN\nFLAG LINE: 9:30 am MTN FLAGS WILL BE PROVIDED.\nCeremony: 10:00 am MTN \nSafety being paramount – ride only if conditions permit. The Nebraska Patriot Guard Riders have been recognized by the National Safety Council and the Nebraska Office of Highway Safety for adhering to and promoting motorcycle safety. Ride Alert – Ride Safe.\n\n \nFlags & Water:\n\nFlags Will Be Provided\n\nLarge Bike Flags will NOT be needed.\n\nWater will be provided.\n\n\nSubmitted By: Scott Knudsen\nPosition: State Captain \n[HR][/HR]\nNote:\nYou do not have to own/ride a motorcycle or be a Veteran to join and membership is Free. The only requirement is RESPECT! To join\, simply go to www.PatriotGuard.org and click on Register. Membership is Free. \nTo subscribe to receive mission notices\, log into the National Site and click on the Mission Tab at the top. Select Upcoming Missions by State. Scroll to the state(s) you would like to receive notices for and click on the green check mark. Detailed instructions are also located in the FAQs on the site by clicking on the Quick Links Tab and selecting FAQs.
URL:https://www.patriotguard.org/mission/alliance-nebraska-memorial-day-ceremony/
END:VEVENT
END:VCALENDAR