BEGIN:VCALENDAR
VERSION:2.0
PRODID:-//Patriot Guard Riders - ECPv5.3.2.1//NONSGML v1.0//EN
CALSCALE:GREGORIAN
METHOD:PUBLISH
X-WR-CALNAME:Patriot Guard Riders
X-ORIGINAL-URL:https://www.patriotguard.org
X-WR-CALDESC:Events for Patriot Guard Riders
BEGIN:VTIMEZONE
TZID:America/New_York
BEGIN:DAYLIGHT
TZOFFSETFROM:-0500
TZOFFSETTO:-0400
TZNAME:EDT
DTSTART:20190310T070000
END:DAYLIGHT
BEGIN:STANDARD
TZOFFSETFROM:-0400
TZOFFSETTO:-0500
TZNAME:EST
DTSTART:20191103T060000
END:STANDARD
END:VTIMEZONE
BEGIN:VEVENT
DTSTART;VALUE=DATE:20190214
DTEND;VALUE=DATE:20190215
DTSTAMP:20210403T054030
CREATED:20190212T033057Z
LAST-MODIFIED:20190212T033318Z
UID:150013-1550102400-1550188799@www.patriotguard.org
SUMMARY:Allen Weber
DESCRIPTION:Honor Mission\nAllen Weber\, Veteran\nUSA –\nMehlville\, Missouri – 02-14-19\n\n\n\n\nABOUT THE MISSION: \nLadies and Gentleman of the Patriot Guard Riders\, we have been distinctly privileged by invitation to honor Allen Weber\, US Army Veteran. Please join us in standing a flag line of honor and respect\, just as he once stood for every one of us. Thank you Mr. Weber\, from a grateful nation.\n\n\nPRIMARY STAGING DETAILS: 02-14-19 \nStaging Time: 10:30 AM  \nKutis Funeral Home South County\n5255 Lemay Ferry Rd.\nMehlville\, Missouri 63129\n\n\nRide Captain: \nMike Albers\nhuck3517@yahoo.com\n618-910-9926\n\n\nSpecial Instructions: \nStage-10:30 a.m.\nFlag line-11;00 a.m.\nJefferson Barracks-slot time-11:30\nFlag Support- TBD\n\n\nFlags & Water:\nFlags will be provided\nIf you have large bike flags\, please bring them.\nWater will be provided.\n\n\n\nSubmitted By: Michael Albers \nPosition: Missouri Ride Captain \n\nNote: You do not have to own/ride a motorcycle or be a veteran to join\, and membership is Free. The only requirement is RESPECT! To subscribe to receive mission notices\, log into the National Site and click on the Members tab at the top. Select the Subscribe to PGR Missions option.\n Print This Page
URL:https://www.patriotguard.org/mission/allen-weber/
CATEGORIES:Honor Mission
END:VEVENT
END:VCALENDAR