BEGIN:VCALENDAR
VERSION:2.0
PRODID:-//Patriot Guard Riders - ECPv5.3.2.1//NONSGML v1.0//EN
CALSCALE:GREGORIAN
METHOD:PUBLISH
X-WR-CALNAME:Patriot Guard Riders
X-ORIGINAL-URL:https://www.patriotguard.org
X-WR-CALDESC:Events for Patriot Guard Riders
BEGIN:VTIMEZONE
TZID:America/New_York
BEGIN:DAYLIGHT
TZOFFSETFROM:-0500
TZOFFSETTO:-0400
TZNAME:EDT
DTSTART:20170312T070000
END:DAYLIGHT
BEGIN:STANDARD
TZOFFSETFROM:-0400
TZOFFSETTO:-0500
TZNAME:EST
DTSTART:20171105T060000
END:STANDARD
END:VTIMEZONE
BEGIN:VEVENT
DTSTART;TZID=America/New_York:20170220T150000
DTEND;TZID=America/New_York:20170220T170000
DTSTAMP:20210406T020131
CREATED:20170220T200000Z
LAST-MODIFIED:20191201T031143Z
UID:315932-1487602800-1487610000@www.patriotguard.org
SUMMARY:Allan Wilson Miller\, Veteran\, USAF
DESCRIPTION:Allan Wilson Miller\, Veteran \nUSAF \nAltamonte Springs\, Florida – 20 Feb 2017\n\n[HR][/HR]\nABOUT THE MISSION: \nThe family of A1C Allan Wilson Miller has graciously requested the Patriot Guard Rider’s presence as they show their final respects and lay their loved one to rest. \nA1C Miller faithfully served his Country in the U.S. Air Force and performed duties as an Aircraft Mechanic. \nUpon completion of his service\, A1C Miller received Honorable Discharge and awarded a National Defense Service Medal and a Good Conduct Medal. \nNote: This is a two-part mission. \nPart 1 is a Funeral Service in Altamonte Springs\, followed by an escort (approximately 3 miles) to the cemetery in Apopka. \nPart 2 is a Committal Service in Apopka. \nPlease bring your 3 X 5 American Flags and join us as we stand in silent Honor and Respect for our U.S. Air Force Veteran and his family. \nPRIMARY STAGING DETAILS: 20 Feb 2017 \n \nPrimary Staging Time: 1200 P.M.\n\nBaldwin Fairchild Funeral Home\n90 Weathersfield Ave.\n\nAltamonte Springs\, Florida – 32714\n\n\nhttps://goo.gl/OVvyts\n\n \n\nRide Captain:\n\nBernie “Dutchman” Conner\nBc17004@aol.com\n407-415-6162\n\n \n\nSpecial Instructions:\n\n1200 hrs – Stage\n1215 hrs – Brief\n1300 hrs – Service\nFlag Line – As determined by Ride Captain\nEscort KSU – As determined by Funeral Director\n\n \n\nFlags & Water:\n\nFlags Will NOT Be Provided\, Please Bring Your Own.\n\nIf you have large bike flags\, please bring them.\n\nWater WILL NOT be provided\, please bring your own.\n\n\n[HR][/HR]\nSTAGING #2 DETAILS: 20 Feb\, 2017 \n \nStaging #2 Time: 1400 P.M.\n\nHighland Memory Gardens\n3329 E Semoran Blvd.\n\nApopka\, Florida – 32703 \n\nhttps://goo.gl/QROujh\n\n \nRide Captain:\n\nBernie “Dutchman” Conner\nBc17004@aol.com\n407-415-6162\n\n \nSpecial Instructions:\n\nStage – Upon arrival of escort (estimated 1400 hrs)\nService – As determined by Funeral Director\nFlag Line – As determined by Ride Captain\n\n \nFlags & Water:\n\nFlags Will NOT Be Provided\, Please Bring Your Own.\n\nLarge Bike Flags will NOT be needed\n\nWater WILL NOT be provided\, please bring your own.\n\n\nSubmitted By: David Shelton\nPosition: Assistant State Captain \n[HR][/HR]\nNote:\nYou do not have to own/ride a motorcycle or be a Veteran to join and membership is Free. The only requirement is RESPECT! To join\, simply go to Patriot Guard website and click on Register. Membership is Free. \nTo subscribe to receive mission notices\, log into the National Site and click on the Mission Tab at the top. Select Upcoming Missions by State. Scroll to the state(s) you would like to receive notices for and click on the green check mark. Detailed instructions are also located in the FAQs on the site by clicking on the Quick Links Tab and selecting FAQs.
URL:https://www.patriotguard.org/mission/allan-wilson-miller-veteran-usaf/
END:VEVENT
END:VCALENDAR