BEGIN:VCALENDAR
VERSION:2.0
PRODID:-//Patriot Guard Riders - ECPv5.6.0//NONSGML v1.0//EN
CALSCALE:GREGORIAN
METHOD:PUBLISH
X-WR-CALNAME:Patriot Guard Riders
X-ORIGINAL-URL:https://www.patriotguard.org
X-WR-CALDESC:Events for Patriot Guard Riders
BEGIN:VTIMEZONE
TZID:America/New_York
BEGIN:DAYLIGHT
TZOFFSETFROM:-0500
TZOFFSETTO:-0400
TZNAME:EDT
DTSTART:20160313T070000
END:DAYLIGHT
BEGIN:STANDARD
TZOFFSETFROM:-0400
TZOFFSETTO:-0500
TZNAME:EST
DTSTART:20161106T060000
END:STANDARD
END:VTIMEZONE
BEGIN:VEVENT
DTSTART;TZID=America/New_York:20160405T090000
DTEND;TZID=America/New_York:20160405T110000
DTSTAMP:20210513T043552
CREATED:20160405T130000Z
LAST-MODIFIED:20191201T151206Z
UID:413170-1459846800-1459854000@www.patriotguard.org
SUMMARY:Alice C. Sander
DESCRIPTION:Alice C Sander\n\n\nUnited States Air Force \nSanta Fe\, NM\, 04-05-2016\n\n\nPatriot  Guard Riders of New Mexico have been invited by the family to honor a  fallen veteran and sister. Her family has asked for an escort to Santa  Fe National Cemetery for Final Honors. \nPRIMARY STAGING INFO – 4-5-2016\nLOCATION:\nRivera Funeral Home\n417 Rodeo Road\nSanta Fe\, NM\n\nSTAGING TIME: 12:15 PM \nBRIEFING: 12:30 PM\n\nKSU: 12:40 PM for escort to the Santa Fe National Cemetery\, Santa Fe\, NM\n\nFLAGLINE FOR FINAL HONORS: 1:30 PM\n \nRCIC: Dave “Feathers” James – feathers56@msn.com – (505) 629-2951\n\nFlags will be provided.\nLarge bike flags will NOT be needed. \n\nWeather:  67˚ Mostly Sunny at time of service
URL:https://www.patriotguard.org/mission/alice-c-sander/
CATEGORIES:Archive
END:VEVENT
END:VCALENDAR