BEGIN:VCALENDAR
VERSION:2.0
PRODID:-//Patriot Guard Riders - ECPv5.3.2.1//NONSGML v1.0//EN
CALSCALE:GREGORIAN
METHOD:PUBLISH
X-WR-CALNAME:Patriot Guard Riders
X-ORIGINAL-URL:https://www.patriotguard.org
X-WR-CALDESC:Events for Patriot Guard Riders
BEGIN:VTIMEZONE
TZID:America/New_York
BEGIN:DAYLIGHT
TZOFFSETFROM:-0500
TZOFFSETTO:-0400
TZNAME:EDT
DTSTART:20190310T070000
END:DAYLIGHT
BEGIN:STANDARD
TZOFFSETFROM:-0400
TZOFFSETTO:-0500
TZNAME:EST
DTSTART:20191103T060000
END:STANDARD
END:VTIMEZONE
BEGIN:VEVENT
DTSTART;VALUE=DATE:20190913
DTEND;VALUE=DATE:20190914
DTSTAMP:20210401T123543
CREATED:20190913T023938Z
LAST-MODIFIED:20190913T023938Z
UID:173702-1568332800-1568419199@www.patriotguard.org
SUMMARY:Alfredo Ortega Jr
DESCRIPTION:Honor Mission\nAlfredo Ortega Jr\nUSMC – WWII\nEl Paso\, Texas – 09-13-19\n\n\n\nABOUT THE MISSION: \nThe family of PFC Alfredo Ortega Jr has requested the Far West Texas Patriot Guard Riders to render honors for his interment. Services for PFC Alfredo Ortega Jr are entrusted to Sunset Funeral Home – West 480 N Resler Dr. El Paso\, TX 79912.\n\n\nPRIMARY STAGING DETAILS: 09-13-19 \nStaging Time: 1:30 PM\n \nFort Bliss National Cemetery\n5200 Fred Wilson Ave\nEl Paso\, Texas 79906\n\n\nRide Captain: \nVaughn Nelson\n(915) 667-9992\nCellfwtpgrmissions@gmail.com\n\nMission Scheduling: Paul Lewey\, (915) 433-7000\, elpaso2007@yahoo.com\n\n\nSpecial Instructions: \nRED SHIRT FRIDAY Remember Everyone Deployed.\nStaging: 1:30 pm\nBriefing: 1:45 pm\nFlag Line: 2:00 pm\nInterment: 2:00 pm West Shelter\n\n\nFlags & Water:\nFlags will be provided\nLarge Bike Flags will NOT be needed.\nWater will be provided.\n\n\n\nSubmitted By: Vaughn Nelson \nPosition: Texas Ride Captain \n\nNote: You do not have to own/ride a motorcycle or be a veteran to join\, and membership is Free. The only requirement is RESPECT! To subscribe to receive mission notices\, log into the National Site and click on the Members tab at the top. Select the Subscribe to PGR Missions option.\n Print This Page
URL:https://www.patriotguard.org/mission/alfredo-ortega-jr/
CATEGORIES:Honor Mission
END:VEVENT
END:VCALENDAR