BEGIN:VCALENDAR
VERSION:2.0
PRODID:-//Patriot Guard Riders - ECPv5.3.2.1//NONSGML v1.0//EN
CALSCALE:GREGORIAN
METHOD:PUBLISH
X-WR-CALNAME:Patriot Guard Riders
X-ORIGINAL-URL:https://www.patriotguard.org
X-WR-CALDESC:Events for Patriot Guard Riders
BEGIN:VTIMEZONE
TZID:America/New_York
BEGIN:DAYLIGHT
TZOFFSETFROM:-0500
TZOFFSETTO:-0400
TZNAME:EDT
DTSTART:20180311T070000
END:DAYLIGHT
BEGIN:STANDARD
TZOFFSETFROM:-0400
TZOFFSETTO:-0500
TZNAME:EST
DTSTART:20181104T060000
END:STANDARD
END:VTIMEZONE
BEGIN:VEVENT
DTSTART;TZID=America/New_York:20180427T141500
DTEND;TZID=America/New_York:20180427T161500
DTSTAMP:20210403T030104
CREATED:20180427T181500Z
LAST-MODIFIED:20200725T162737Z
UID:311507-1524838500-1524845700@www.patriotguard.org
SUMMARY:Alfred W. Reeder\, Veteran\, USA - Korea
DESCRIPTION:Honor Mission\nAlfred W. Reeder\, Veteran\nUSA – Korea\nGrand Junction\, Colorado – 27 Apr 2018\n\n\nABOUT THE MISSION: \nPlease join us as we honor Alfred W. Reeder\, US Army\, Korean War veteran.\n\nPRIMARY STAGING DETAILS: 27 Apr 2018\nPrimary Staging Time: 2:15 P.M. \nVeterans Memorial Cemetery (shelter area)\n2830 Riverside Parkway\nGrand Junction\, Colorado – 81501\nRide Captain: \nTim Himes\n970-241-9570\n\nSpecial Instructions:\n\nFlags & Water: \nFlags Will Be Provided\nLarge Bike Flags will NOT be needed.\nWater will be provided.\n  \n\nSubmitted By: Arthur Edwards\nPosition: Assistant State Captain\n \n\nNote:\nYou do not have to own/ride a motorcycle or be a Veteran to join and membership is Free. The only requirement is RESPECT! To join\, simply go to www.PatriotGuard.org and click on Register. Membership is Free. \nTo subscribe to receive mission notices\, log into the National Site and click on the Mission Tab at the top. Select the Subscribe to Missions option.
URL:https://www.patriotguard.org/mission/alfred-w-reeder-veteran-usa-korea/
CATEGORIES:Honor Mission
END:VEVENT
END:VCALENDAR