BEGIN:VCALENDAR
VERSION:2.0
PRODID:-//Patriot Guard Riders - ECPv5.3.2.1//NONSGML v1.0//EN
CALSCALE:GREGORIAN
METHOD:PUBLISH
X-WR-CALNAME:Patriot Guard Riders
X-ORIGINAL-URL:https://www.patriotguard.org
X-WR-CALDESC:Events for Patriot Guard Riders
BEGIN:VTIMEZONE
TZID:America/New_York
BEGIN:DAYLIGHT
TZOFFSETFROM:-0500
TZOFFSETTO:-0400
TZNAME:EDT
DTSTART:20190310T070000
END:DAYLIGHT
BEGIN:STANDARD
TZOFFSETFROM:-0400
TZOFFSETTO:-0500
TZNAME:EST
DTSTART:20191103T060000
END:STANDARD
END:VTIMEZONE
BEGIN:VEVENT
DTSTART;VALUE=DATE:20190621
DTEND;VALUE=DATE:20190622
DTSTAMP:20210404T231439
CREATED:20190618T184052Z
LAST-MODIFIED:20190618T184052Z
UID:165099-1561075200-1561161599@www.patriotguard.org
SUMMARY:Alfred Harris
DESCRIPTION:Honor Mission\nAlfred Harris\, Veteran\nUSA –\nSuffolk\, Virginia – 06-21-19\n\n\n\nABOUT THE MISSION: \nThe Patriot Guard has been invited by the family of Alfred Harris USA to stand in honor of his service to our Country. This will be a Flag Line only.\n\n\nPRIMARY STAGING DETAILS: 06-21-19 \nStaging Time: 12:30 PM\n \nAlbert G. Horton\n5310 Milners Rd\nSuffolk\, Virginia 23434\n\n\nRide Captain: \nMike Nugent\nxdvr1@verizon.net\n757-327-8281\n\nCo-Captain: Open\nRice: Open to all candidates\n\n\nSpecial Instructions: \n• RC will pick up cremains at funeral home and proceed to AGH.\n• Please stage at the Admin building\, RC will call 15 minutes prior to arrival.\n• Weather — Please monitor the weather and dress appropriately.\n• Anticipate this mission to last 1 hour.\n\n\nFlags & Water:\nFlags will be provided\nLarge Bike Flags will NOT be needed.\nWater WILL NOT be provided\, please bring your own.\n\n\n\nSubmitted By: Mike Nugent \nPosition: Virginia Ride Captain \n\nNote: You do not have to own/ride a motorcycle or be a veteran to join\, and membership is Free. The only requirement is RESPECT! To subscribe to receive mission notices\, log into the National Site and click on the Members tab at the top. Select the Subscribe to PGR Missions option.\n Print This Page
URL:https://www.patriotguard.org/mission/alfred-harris/
CATEGORIES:Honor Mission
END:VEVENT
END:VCALENDAR