BEGIN:VCALENDAR
VERSION:2.0
PRODID:-//Patriot Guard Riders - ECPv5.3.2.1//NONSGML v1.0//EN
CALSCALE:GREGORIAN
METHOD:PUBLISH
X-WR-CALNAME:Patriot Guard Riders
X-ORIGINAL-URL:https://www.patriotguard.org
X-WR-CALDESC:Events for Patriot Guard Riders
BEGIN:VTIMEZONE
TZID:America/New_York
BEGIN:DAYLIGHT
TZOFFSETFROM:-0500
TZOFFSETTO:-0400
TZNAME:EDT
DTSTART:20190310T070000
END:DAYLIGHT
BEGIN:STANDARD
TZOFFSETFROM:-0400
TZOFFSETTO:-0500
TZNAME:EST
DTSTART:20191103T060000
END:STANDARD
END:VTIMEZONE
BEGIN:VEVENT
DTSTART;VALUE=DATE:20190422
DTEND;VALUE=DATE:20190423
DTSTAMP:20210404T104431
CREATED:20190421T235736Z
LAST-MODIFIED:20190421T235914Z
UID:157948-1555891200-1555977599@www.patriotguard.org
SUMMARY:Alford R. Endsley Jr
DESCRIPTION:Honor Mission\nAlford R. Endsley Jr\, Veteran\nUSMC\nLeavenworth\, Kansas – 04-22-19\n\n\n\nABOUT THE MISSION: \nAlford R. Endsley\, Jr. served in the United States Marine Corps for five years and eight months. During his service\, he was awarded the National Defense Service Medal; the Good Conduct Medal; and the Rifle Sharpshooter Badge.\n\n\nPRIMARY STAGING DETAILS: 04-22-19 \nStaging Time: 09:30  \nR. L. Leintz Funeral Home4701 10th Avenue\nLeavenworth\, Kansas 66048\n\n\nRide Captain: \nRon “Grumpy” Wurtele\nrwurtele@kc.rr.com\n(913) 683-4652\n\n\nSpecial Instructions: \nRiders brief at 9:30 A.M. and stand flag line for visitation from 10:00 A.M. until 11:30 A.M. After 11:30 A.M. funeral service\, escort to Leavenworth National Cemetery for 12:30 P.M. honors at the Shelter.NOTE: Only Ride Captain will wear RC hat.\n\n\nFlags & Water:\nFlags will be provided\nIf you have large bike flags\, please bring them.\nWater WILL NOT be provided\, please bring your own.\n\n\nSubmitted By: Ronald Wurtele \nPosition: Kansas Ride Captain \n\nNote: You do not have to own/ride a motorcycle or be a veteran to join\, and membership is Free. The only requirement is RESPECT! To subscribe to receive mission notices\, log into the National Site and click on the Members tab at the top. Select the Subscribe to PGR Missions option.\n Print This Page
URL:https://www.patriotguard.org/mission/alford-r-endsley-jr/
CATEGORIES:Honor Mission
END:VEVENT
END:VCALENDAR