BEGIN:VCALENDAR
VERSION:2.0
PRODID:-//Patriot Guard Riders - ECPv5.3.2.1//NONSGML v1.0//EN
CALSCALE:GREGORIAN
METHOD:PUBLISH
X-WR-CALNAME:Patriot Guard Riders
X-ORIGINAL-URL:https://www.patriotguard.org
X-WR-CALDESC:Events for Patriot Guard Riders
BEGIN:VTIMEZONE
TZID:America/New_York
BEGIN:DAYLIGHT
TZOFFSETFROM:-0500
TZOFFSETTO:-0400
TZNAME:EDT
DTSTART:20170312T070000
END:DAYLIGHT
BEGIN:STANDARD
TZOFFSETFROM:-0400
TZOFFSETTO:-0500
TZNAME:EST
DTSTART:20171105T060000
END:STANDARD
END:VTIMEZONE
BEGIN:VEVENT
DTSTART;TZID=America/New_York:20171025T093000
DTEND;TZID=America/New_York:20171025T113000
DTSTAMP:20210403T032924
CREATED:20171025T133000Z
LAST-MODIFIED:20191201T031532Z
UID:319525-1508923800-1508931000@www.patriotguard.org
SUMMARY:Alejandro G. Pena\, Veteran\, USA - Vietnam\, Moline\, Illinois - 25 Oct 2017*
DESCRIPTION:Alejandro G. Pena\, Veteran\nUSA  – Vietnam\nMoline\, Illinois – 25 Oct 2017\n\n\n\n[HR][/HR]\nABOUT THE MISSION: \n\nThe Patriot Guard Riders have been invited  by the family of Alejandro G. Pena\, 66\, US Army Vietnam Veteran\, to  participate in honoring his service to this Great Nation at his Funeral  and Interment Services to be held on Wednesday\, 25 OCT 17.\n\n\nPRIMARY STAGING DETAILS:  25 Oct 2017\nPrimary Staging Time:  9:30 A.M. \n\nTrimble Funeral Home\n701 12th St.\nMoline\, Illinois – 61265\nhttps://goo.gl/maps/x6DVwPudr9m\n\n\nRide Captain: \n\nEric Swanson\n\n\n(563)676-7145\nqcapgr@gmail.com\n\n\nSpecial Instructions: \n\nRALLY TIME:   0930 hrs.\, PRB 0945 hrs.  Immediately establish our flag lines.  On  completion of Funeral Services\, we will escort to R.I. National Cemetery  for Interment Services.\n\n\nNOTE:  All Safety Equipment required (Boots\, Helmet\, Long Sleeves\, Full finger gloves)\n\n\nFlags & Water: \n\nFlags Will Be Provided\nIf you have large bike flags\, please bring them.\nWater will be provided.\n\n\nSubmitted By: Eric Swanson\nPosition: Ride Captain \n[HR][/HR]Note:\nYou do not have to own/ride a motorcycle or be a Veteran to join and membership is Free. The only requirement is RESPECT! To join\, simply go to www.PatriotGuard.org and click on Register. Membership is Free. \nTo subscribe to receive mission notices\, log into the National Site and click on the Mission Tab at the top. Select the Subscribe to Missions option.
URL:https://www.patriotguard.org/mission/alejandro-g-pena-veteran-usa-vietnam-moline-illinois-25-oct-2017/
END:VEVENT
END:VCALENDAR