BEGIN:VCALENDAR
VERSION:2.0
PRODID:-//Patriot Guard Riders - ECPv5.6.0//NONSGML v1.0//EN
CALSCALE:GREGORIAN
METHOD:PUBLISH
X-WR-CALNAME:Patriot Guard Riders
X-ORIGINAL-URL:https://www.patriotguard.org
X-WR-CALDESC:Events for Patriot Guard Riders
BEGIN:VTIMEZONE
TZID:America/New_York
BEGIN:DAYLIGHT
TZOFFSETFROM:-0500
TZOFFSETTO:-0400
TZNAME:EDT
DTSTART:20160313T070000
END:DAYLIGHT
BEGIN:STANDARD
TZOFFSETFROM:-0400
TZOFFSETTO:-0500
TZNAME:EST
DTSTART:20161106T060000
END:STANDARD
END:VTIMEZONE
BEGIN:VEVENT
DTSTART;TZID=America/New_York:20160706T090000
DTEND;TZID=America/New_York:20160706T110000
DTSTAMP:20210512T223124
CREATED:20160706T130000Z
LAST-MODIFIED:20191201T144615Z
UID:410849-1467795600-1467802800@www.patriotguard.org
SUMMARY:Albert Pucciarelli\, 82
DESCRIPTION:Fellow Patriots\, \nWe have been invited to stand US Army Veteran CPL Albert Pucciarelli as he stood for us. CPL Pucciarelli served in the 4th Infantry from 1954-1956 and was stationed in Germany most of his tour. \nLink for Obituary: http://www.thomasfuneral.com/obituary?id=251303 \nThis will be a flag line mission only at the Eastern Carolina State Veteran Cemetery in Goldsboro on Wednesday\, July 6\, 2016. The service is at 12 noon. Details follow: \nDate: Wednesday\, July 6\, 2016 \nLocation:\nEastern Carolina State Veterans Cemetery\n164 Long’s Plant Farm Road\nGoldsboro\, NC 27534\n\nLink for Directions: https://goo.gl/ZeBY8e:\n\nStaging:  11:15AM \nBriefing: 11:30AM \nFlag line: 11:45AM \nI will be honored to serve as RC for this mission and may be reached at 919-616-4603. Thank you for all that you do to honor our heroes and their families. \nRandy Bright\, RC\nrandybrightfd@hotmail.com \nSPECIAL NOTE: Safety is of our utmost priority. Every effort possible is made in planning and executing the PGR Mission statement in a manner that minimizes the inherit dangers of riding a motorcycle\, including riding in groups of all sizes and any situation. While the NCPG and its riders have a remarkable safety record in the execution of our missions\, infrequently members have been injured in unforeseen accidents. In an effort to mitigate the risk of preventable accidents\, all attendees who wish to ride in a Patriot Guard motorcycle escort or ride are asked to attend the pre-mission briefing. It will include a safety briefing\, and any unique ride information known to our RCIC that may be specific to the mission. Member safety and well-being is always a principal ongoing concern. Our RCIC’s are asked to stand-down from any mission that cannot be accomplished in relative safety or present unreasonable risk. This includes both rides and flag lines in inclement weather and conditions. It remains each individual PGR member’s responsibility to ride within their own comfort zone and be cognizant of their surroundings and skill limitations as well as any physical needs or limitations. If the ride and/or mission conditions present challenges beyond your skill\, comfort\, or needs you are expected to exercise good judgment in foregoing any planned participation.
URL:https://www.patriotguard.org/mission/albert-pucciarelli-82/
CATEGORIES:Archive
END:VEVENT
END:VCALENDAR