BEGIN:VCALENDAR
VERSION:2.0
PRODID:-//Patriot Guard Riders - ECPv5.3.2.1//NONSGML v1.0//EN
CALSCALE:GREGORIAN
METHOD:PUBLISH
X-WR-CALNAME:Patriot Guard Riders
X-ORIGINAL-URL:https://www.patriotguard.org
X-WR-CALDESC:Events for Patriot Guard Riders
BEGIN:VTIMEZONE
TZID:America/New_York
BEGIN:DAYLIGHT
TZOFFSETFROM:-0500
TZOFFSETTO:-0400
TZNAME:EDT
DTSTART:20170312T070000
END:DAYLIGHT
BEGIN:STANDARD
TZOFFSETFROM:-0400
TZOFFSETTO:-0500
TZNAME:EST
DTSTART:20171105T060000
END:STANDARD
END:VTIMEZONE
BEGIN:VEVENT
DTSTART;TZID=America/New_York:20171103T081500
DTEND;TZID=America/New_York:20171103T101500
DTSTAMP:20210406T023211
CREATED:20171103T121500Z
LAST-MODIFIED:20191201T031016Z
UID:314530-1509696900-1509704100@www.patriotguard.org
SUMMARY:Albert Paradiso\, Veteran\, USA - WWII
DESCRIPTION:Albert Paradiso\, 91\, Veteran\nUSA  – WWII\nBushnell\, Florida – 03 Nov 2017\n\n\n[HR][/HR]\nABOUT THE MISSION: \n\nThe family of Cpl. Albert Paradiso has  graciously requested the Patriot Guard Riders presence as they show  their final respects and lay their loved one to rest. \nAlbert faithfully served his country in the U.S. Army and performed duties as a Machine Gunner. \nUpon completion of his service Cpl. Paradiso received an Honorable   Discharge and during his time in service\, was awarded  the Army of  Occupation medal\, WW II Victory Medal\, European African Middle Eastern  Campaign medal\, and the Good Conduct medal. \nAlbert is survived by 2 brothers and a sister. \nPlease bring your 3 X 5 American Flags and stand in Honor and Respect for our Hero and his family. \nPlease hydrate.\n \n\nPRIMARY STAGING DETAILS:  03 Nov 2017\nPrimary Staging Time: 0915 A.M. \n\nFlorida National Cemetery\n6502 SW 102nd Ave\nBushnell\, Florida – 33513\nhttp://tinyurl.com/ybnsu6p4\n\n\nRide Captain: \n\nGary Maclenna\nmaclenna46@yahoo.com\n352-277-1185\n\n\nSpecial Instructions: \n\n0915 Stage\n0930 Brief\n1000 Service\nFlag Line as determined by the Ride Captain.\n\n\nFlags & Water: \n\nFlags Will NOT Be Provided\, Please Bring Your Own.\nLarge Bike Flags will NOT be needed.\nWater WILL NOT be provided\, please bring your own.\n\nSubmitted By: Bernie Conner\nPosition: Assistant State Captain\n[HR][/HR]Note:\nYou do not have to own/ride a motorcycle or be a Veteran to join and membership is Free. The only requirement is RESPECT! To join\, simply go to www.PatriotGuard.org and click on Register. Membership is Free. \nTo subscribe to receive mission notices\, log into the National Site and click on the Mission Tab at the top. Select the Subscribe to Missions option.
URL:https://www.patriotguard.org/mission/albert-paradiso-veteran-usa-wwii/
END:VEVENT
END:VCALENDAR