BEGIN:VCALENDAR
VERSION:2.0
PRODID:-//Patriot Guard Riders - ECPv5.3.2.1//NONSGML v1.0//EN
CALSCALE:GREGORIAN
METHOD:PUBLISH
X-WR-CALNAME:Patriot Guard Riders
X-ORIGINAL-URL:https://www.patriotguard.org
X-WR-CALDESC:Events for Patriot Guard Riders
BEGIN:VTIMEZONE
TZID:America/New_York
BEGIN:DAYLIGHT
TZOFFSETFROM:-0500
TZOFFSETTO:-0400
TZNAME:EDT
DTSTART:20190310T070000
END:DAYLIGHT
BEGIN:STANDARD
TZOFFSETFROM:-0400
TZOFFSETTO:-0500
TZNAME:EST
DTSTART:20191103T060000
END:STANDARD
END:VTIMEZONE
BEGIN:VEVENT
DTSTART;VALUE=DATE:20190622
DTEND;VALUE=DATE:20190623
DTSTAMP:20210405T030350
CREATED:20190616T031534Z
LAST-MODIFIED:20190616T031534Z
UID:164870-1561161600-1561247999@www.patriotguard.org
SUMMARY:Albert "Moe" Holland
DESCRIPTION:Honor Mission\nAlbert “Moe” Holland\, Retired\nUSAF – Korea\, Vietnam\nTucson\, Arizona – 06-22-19\n\n\n\n\nABOUT THE MISSION: \nAlbert “Moe”Holland was born one of four children into the Holland family\, on 24 September 1934. In December of 1954 Moe married the love of his life JoAnne. In 1955 Moe enlisted in the United States Air Force serving in Security Police and Missile Safety throughout his military career. MSgt Holland served a total of twenty three years before retiring before his honorable discharge in 1978. MSgt Holland passed on 12 June 2019.\n\n\nPRIMARY STAGING DETAILS: 06-22-19 \nStaging Time: 9:15 am\n \nDunkin Donuts parking lot\n5346 E. 22nd Street\nTucson\, Arizona 85710\n\n\nRide Captain: \nRide Captain: Robi\n520-429-1175\n\nFlag Captain: DaFlagGuy\n520-241-4530\n\n\nSpecial Instructions: \nBriefing: 9:30 am\nKSU: 9:40 am\n\n\nFlags & Water:\nFlags will be provided\nIf you have large bike flags\, please bring them.\nWater will be provided.\n\nSubmitted By: Robi Campbell \nPosition: Arizona Assistant State Captain \n\nNote: You do not have to own/ride a motorcycle or be a veteran to join\, and membership is Free. The only requirement is RESPECT! To subscribe to receive mission notices\, log into the National Site and click on the Members tab at the top. Select the Subscribe to PGR Missions option.\n Print This Page
URL:https://www.patriotguard.org/mission/albert-moe-holland/
CATEGORIES:Honor Mission
END:VEVENT
END:VCALENDAR