BEGIN:VCALENDAR
VERSION:2.0
PRODID:-//Patriot Guard Riders - ECPv5.6.0//NONSGML v1.0//EN
CALSCALE:GREGORIAN
METHOD:PUBLISH
X-WR-CALNAME:Patriot Guard Riders
X-ORIGINAL-URL:https://www.patriotguard.org
X-WR-CALDESC:Events for Patriot Guard Riders
BEGIN:VTIMEZONE
TZID:America/New_York
BEGIN:DAYLIGHT
TZOFFSETFROM:-0500
TZOFFSETTO:-0400
TZNAME:EDT
DTSTART:20160313T070000
END:DAYLIGHT
BEGIN:STANDARD
TZOFFSETFROM:-0400
TZOFFSETTO:-0500
TZNAME:EST
DTSTART:20161106T060000
END:STANDARD
END:VTIMEZONE
BEGIN:VEVENT
DTSTART;TZID=America/New_York:20160727T090000
DTEND;TZID=America/New_York:20160727T110000
DTSTAMP:20210512T123958
CREATED:20160727T130000Z
LAST-MODIFIED:20191201T144040Z
UID:410334-1469610000-1469617200@www.patriotguard.org
SUMMARY:Albert G. Wadley\, USN
DESCRIPTION:27 July 2016\n\n\nAlbert Garland Wadley\nU.S. Navy Seabee WWII \nFlorence\, Al.\n\n\nThe family of Albert Garland Wadley has asked the Patriot Guard to honor their loved one by standing a flag line at his visitation\, memorial service and escort to his final resting place.  We will be Honored to do so.\nSeaman 1st Class Wadley stood for us…Now is the time to Stand for Him \nSeaman 1st Class Wadley was in the U.S. Navy Seabees in WWII and served with distinction. He helped build the Air Strip that the Nola Gay used.  \nVisitation:\nWednesday 27 July 2016 12:00-14:00 (2pm)\nFuneral to follow at 2:00pm\nSpry Williams Funeral Home\n1950 Helton Dr..\nFlorence\, Al. 35630 \nStaging:\n11:00\n\nEscort to:\nTri-Cities Memorial Gardens\n2601 Florence Blvd.\nFlorence\, Al. 35630   \nRCIC:\nTC Dawson  \n256-577-6577\ntcdawson5@gmail.com
URL:https://www.patriotguard.org/mission/albert-g-wadley-usn/
CATEGORIES:Archive
END:VEVENT
END:VCALENDAR