BEGIN:VCALENDAR
VERSION:2.0
PRODID:-//Patriot Guard Riders - ECPv5.6.0//NONSGML v1.0//EN
CALSCALE:GREGORIAN
METHOD:PUBLISH
X-WR-CALNAME:Patriot Guard Riders
X-ORIGINAL-URL:https://www.patriotguard.org
X-WR-CALDESC:Events for Patriot Guard Riders
BEGIN:VTIMEZONE
TZID:America/New_York
BEGIN:DAYLIGHT
TZOFFSETFROM:-0500
TZOFFSETTO:-0400
TZNAME:EDT
DTSTART:20160313T070000
END:DAYLIGHT
BEGIN:STANDARD
TZOFFSETFROM:-0400
TZOFFSETTO:-0500
TZNAME:EST
DTSTART:20161106T060000
END:STANDARD
END:VTIMEZONE
BEGIN:VEVENT
DTSTART;TZID=America/New_York:20160630T090000
DTEND;TZID=America/New_York:20160630T110000
DTSTAMP:20210512T120100
CREATED:20160630T130000Z
LAST-MODIFIED:20191201T144724Z
UID:410956-1467277200-1467284400@www.patriotguard.org
SUMMARY:Albert Combs\, USA
DESCRIPTION:Albert Combs\nCSM\, US Army\nKorean Conflict & Vietnam Veteran\n\n\nWe have been asked and will stand in his honor at Coffey & Chism Funeral Home and at his final resting place at the Kentucky Veterans Cemetery Central. \nTHURSDAY 30 JUNE 2016 \nCoffey-Chism Funeral Home\n769 Highland Ave\nVine Grove\, KY 40175 \n9:30 AM   Stage and Stake Flags\n10:00 Flag line\n11:45  Final Salute\n12:00 PM Service Begins\n12:30 Escort to KVCC begins \nKentucky Veterans Cemetery Central (KVCC)\n2501 North Dixie Boulevard\nRadcliff\, KY 40160 \n12:00 PM Stage and Stake Flags\n1:00 PM Committal Service Begins \nPlease be prepared for the weather conditions and Ride Safely.  Please stage at the main building to the right as you enter the Cemetery and move forward as requested by the Ride Captain. This will ensure we do not disturb any other services taking place. \nRIDE CAPTAIN(S)\nAngela Smith smith.paul@twc.com\nDon Gilmore dgilmore@bbtel.com\nJames (Danny) Johnson\, Senior Ride Captain\, roughriverdan@yahoo.com
URL:https://www.patriotguard.org/mission/albert-combs-usa/
CATEGORIES:Archive
END:VEVENT
END:VCALENDAR