BEGIN:VCALENDAR
VERSION:2.0
PRODID:-//Patriot Guard Riders - ECPv5.6.0//NONSGML v1.0//EN
CALSCALE:GREGORIAN
METHOD:PUBLISH
X-WR-CALNAME:Patriot Guard Riders
X-ORIGINAL-URL:https://www.patriotguard.org
X-WR-CALDESC:Events for Patriot Guard Riders
BEGIN:VTIMEZONE
TZID:America/New_York
BEGIN:DAYLIGHT
TZOFFSETFROM:-0500
TZOFFSETTO:-0400
TZNAME:EDT
DTSTART:20160313T070000
END:DAYLIGHT
BEGIN:STANDARD
TZOFFSETFROM:-0400
TZOFFSETTO:-0500
TZNAME:EST
DTSTART:20161106T060000
END:STANDARD
END:VTIMEZONE
BEGIN:VEVENT
DTSTART;TZID=America/New_York:20160720T090000
DTEND;TZID=America/New_York:20160720T110000
DTSTAMP:20210512T161950
CREATED:20160720T130000Z
LAST-MODIFIED:20191201T144235Z
UID:410511-1469005200-1469012400@www.patriotguard.org
SUMMARY:Albert C. Williams\, USA
DESCRIPTION:Wednesday \nJuly 20\, 2016 \n3:30 pm \nAlbert C. Williams\,\nU. S. Army\, Vietnam \nSunset Funeral Home \nDothan\, AL.\n\nVisitation:  5-7:00 p.m. Tuesday.\nInterment:  Sunset Memorial Park. \nIt  is our privilege to be invited to pay our respects to our Fallen  Hero\, Albert C. Williams\, who honorably served our country and to shield  his family during their time of grief and loss.\n\nStaging:\nALL locations:  Sunset Memorial Funeral Home\, Dothan\, AL. 3:30 pm. \nRCIC: Patrick M.  334.379.6565\nFC:  Jon P.
URL:https://www.patriotguard.org/mission/albert-c-williams-usa/
CATEGORIES:Archive
END:VEVENT
END:VCALENDAR