BEGIN:VCALENDAR
VERSION:2.0
PRODID:-//Patriot Guard Riders - ECPv5.6.0//NONSGML v1.0//EN
CALSCALE:GREGORIAN
METHOD:PUBLISH
X-WR-CALNAME:Patriot Guard Riders
X-ORIGINAL-URL:https://www.patriotguard.org
X-WR-CALDESC:Events for Patriot Guard Riders
BEGIN:VTIMEZONE
TZID:America/New_York
BEGIN:DAYLIGHT
TZOFFSETFROM:-0500
TZOFFSETTO:-0400
TZNAME:EDT
DTSTART:20160313T070000
END:DAYLIGHT
BEGIN:STANDARD
TZOFFSETFROM:-0400
TZOFFSETTO:-0500
TZNAME:EST
DTSTART:20161106T060000
END:STANDARD
END:VTIMEZONE
BEGIN:VEVENT
DTSTART;TZID=America/New_York:20160601T090000
DTEND;TZID=America/New_York:20160601T110000
DTSTAMP:20210513T183936
CREATED:20160601T130000Z
LAST-MODIFIED:20191201T145558Z
UID:411729-1464771600-1464778800@www.patriotguard.org
SUMMARY:Albert Baptista\, Jr.\, USA\, WWII / Livingston
DESCRIPTION:The family of SSGT. Albert Baptista\, Jr.\, a WWII Veteran have requested the Patriot Guard Riders escort their loved one to his final rest at SJVNC Santa Nella\, Ca. The PGR is honored to do so.   \n\nSergeant Baptista served in Okinawa\, Japan & Korea. He was awarded the Asiatic Pacific Campaign Medal\, Army of Occupation Medal and WWII Victory Medal for his honorable service. He is survived by his five children and his brother.  \nMISSION: After the briefing the PGR will KSU and travel to St. Judes Catholic Church at 330 Franci St\, Livingston\, Ca to honor Albert with a flag line as he is honorably transferred from the church to the coach.  PGR will escort the coach to SJVNC Santa Nella\, Ca 32053 W. McCabe Rd\, for his final honors. Expected arrival time at Santa Nella is 1330 hours\, Wednesday June 1\, 2016. PGR will establish a flag line at the service location. Services to commence at 1400 hrs. PGR will be dismissed upon completion of the services.  \nSTAGE: 1110      CHEVRON STATION 381 Joseph Gallo Dr (off of Winton Parkway) Livingston\, Ca\n\nMap Link: http://mapq.st/h/1TFNxLa \nBRIEF:  1120   \nKSU:     1135     En-route to St. Judes Catholic Church\, 330 Franci St\, Livingston\, Ca. \n                        Map Link: http://mapq.st/h/1VmmtoK \nARR:     1145    St Judes Catholic Church. \nKSU:     1230    En-route to SJVNC Santa Nella\, 32053 W. McCabe Rd. Santa Nella\, Ca.\n\nMap Link: http://mapq.st/h/1TlS8pa \nARR:     1330    SJVNC \nR/C        John Silva\, 209 479-8300 \nAR/C     Craig Hicks\, 214 478-1676
URL:https://www.patriotguard.org/mission/albert-baptista-jr-usa-wwii-livingston/
CATEGORIES:Archive
END:VEVENT
END:VCALENDAR