BEGIN:VCALENDAR
VERSION:2.0
PRODID:-//Patriot Guard Riders - ECPv5.3.2.1//NONSGML v1.0//EN
CALSCALE:GREGORIAN
METHOD:PUBLISH
X-WR-CALNAME:Patriot Guard Riders
X-ORIGINAL-URL:https://www.patriotguard.org
X-WR-CALDESC:Events for Patriot Guard Riders
BEGIN:VTIMEZONE
TZID:America/New_York
BEGIN:DAYLIGHT
TZOFFSETFROM:-0500
TZOFFSETTO:-0400
TZNAME:EDT
DTSTART:20190310T070000
END:DAYLIGHT
BEGIN:STANDARD
TZOFFSETFROM:-0400
TZOFFSETTO:-0500
TZNAME:EST
DTSTART:20191103T060000
END:STANDARD
END:VTIMEZONE
BEGIN:VEVENT
DTSTART;VALUE=DATE:20190704
DTEND;VALUE=DATE:20190705
DTSTAMP:20210404T040724
CREATED:20190629T211751Z
LAST-MODIFIED:20190629T211751Z
UID:166293-1562198400-1562284799@www.patriotguard.org
SUMMARY:Alamogordo 4th of July Parade
DESCRIPTION:HOTH Mission\nAlamogordo 4th of July Parade\n–\nAlamogordo\, New Mexico – 07-04-19\n\n\n\n\nABOUT THE MISSION: \nWe are participating in the Alamogordo 4th of July Parade. The parade route will start on Oregon and proceed down 10th street to New York.\nThe theme for this year is Grand Ole Flag so lets flood it with RED WHITE AND BLUE. If you have historical American flags lets get them out on your bikes and vehicles IE the original 13.\n\n\nPRIMARY STAGING DETAILS: 07-04-19 \nStaging Time: 0830 hrs\n \nCuba Ave Church of Christ\n12th and Cuba\, parking lot behind the church\nAlamogordo\, New Mexico 88310\n\n\nRide Captain: \nRich “Mailman” Merrick\n575-430-6697\nrichardjmerrick@outlook.com\n\n\nSpecial Instructions: \nWe will stage at 0830 hrs\nSafety briefing at 0845 hrs\nKSU to move to parade lineup 0855 hrs\n\n\nFlags & Water:\nFlags will not be provided\nIf you have large bike flags\, please bring them.\nWater will be provided.\n\n\n\nSubmitted By: Richard Merrick \nPosition: New Mexico Ride Captain \n\nNote: You do not have to own/ride a motorcycle or be a veteran to join\, and membership is Free. The only requirement is RESPECT! To subscribe to receive mission notices\, log into the National Site and click on the Members tab at the top. Select the Subscribe to PGR Missions option.\n Print This Page
URL:https://www.patriotguard.org/mission/alamogordo-4th-of-july-parade/
CATEGORIES:HOTH Mission
END:VEVENT
END:VCALENDAR