BEGIN:VCALENDAR
VERSION:2.0
PRODID:-//Patriot Guard Riders - ECPv5.6.0//NONSGML v1.0//EN
CALSCALE:GREGORIAN
METHOD:PUBLISH
X-WR-CALNAME:Patriot Guard Riders
X-ORIGINAL-URL:https://www.patriotguard.org
X-WR-CALDESC:Events for Patriot Guard Riders
BEGIN:VTIMEZONE
TZID:America/New_York
BEGIN:DAYLIGHT
TZOFFSETFROM:-0500
TZOFFSETTO:-0400
TZNAME:EDT
DTSTART:20160313T070000
END:DAYLIGHT
BEGIN:STANDARD
TZOFFSETFROM:-0400
TZOFFSETTO:-0500
TZNAME:EST
DTSTART:20161106T060000
END:STANDARD
END:VTIMEZONE
BEGIN:VEVENT
DTSTART;TZID=America/New_York:20160610T090000
DTEND;TZID=America/New_York:20160610T110000
DTSTAMP:20210513T190853
CREATED:20160610T130000Z
LAST-MODIFIED:20191201T145250Z
UID:411443-1465549200-1465556400@www.patriotguard.org
SUMMARY:Adrian W. Hinely\, 74
DESCRIPTION:The family of Adrian W. “Bill” Hinely has invited the Patriot Guard Riders to be present to honor their Hero\, we would be honored to do so. \nAdrian W. Hinely enlisted in the U.S. Army and served during the Vietnam Era in Germany.  He was honorably discharged and was always proud of his time in the Army. \nAfter the military he worked as a mechanic for the State of California and retired after many years. \nBill\, as he was known by\, enjoyed fishing and camping and being in the outdoors.  He also was a car enthusiast\, and a football fan.  He enjoyed all of these activities with his children and grand children.\n\nHe was always a big supporter of the Veterans and very proud of having served. \nBill is survived by his wife Sandra\, one daughter\, one son and 6 grandchildren. \nNOTE: This mission posting is to facilitate your voluntary participation in honoring this Military Veteran.  \nTime table for Friday\, 10 JUN 16: \n1215 – Stage at Riverside National Cemetery\, 22495 Van Buren Blvd.\, Riverside\, CA 92518 (PGR to staging area #8)  https://goo.gl/maps/bRZ9rWmRHuv \n1230 – Mission briefing \n1300 – KSU to assigned shelter for Flag Line\, Service and Military Honors \nR/C Dennis ‘Naverick’ Navarre\ndennis.navarre@gmail.com\n909-262-5545 \nYou do not have to be a Veteran or a motorcycle rider to attend this mission. Everyone is welcome. We encourage those who do not ride to attend in your car. If this will be your first mission go to the initial staging area and you will be briefed there by the R/C (Ride Captain).  Dress for motorcycle riding or dress casually if you are driving a cage (car).  Please feel free to attend any portion of this mission you can.  Please ride/drive safely.
URL:https://www.patriotguard.org/mission/adrian-w-hinely-74/
CATEGORIES:Archive
END:VEVENT
END:VCALENDAR