BEGIN:VCALENDAR
VERSION:2.0
PRODID:-//Patriot Guard Riders - ECPv5.6.0//NONSGML v1.0//EN
CALSCALE:GREGORIAN
METHOD:PUBLISH
X-WR-CALNAME:Patriot Guard Riders
X-ORIGINAL-URL:https://www.patriotguard.org
X-WR-CALDESC:Events for Patriot Guard Riders
BEGIN:VTIMEZONE
TZID:America/New_York
BEGIN:DAYLIGHT
TZOFFSETFROM:-0500
TZOFFSETTO:-0400
TZNAME:EDT
DTSTART:20160313T070000
END:DAYLIGHT
BEGIN:STANDARD
TZOFFSETFROM:-0400
TZOFFSETTO:-0500
TZNAME:EST
DTSTART:20161106T060000
END:STANDARD
END:VTIMEZONE
BEGIN:VEVENT
DTSTART;TZID=America/New_York:20160808T090000
DTEND;TZID=America/New_York:20160808T110000
DTSTAMP:20210512T015138
CREATED:20160808T130000Z
LAST-MODIFIED:20191201T143751Z
UID:410078-1470646800-1470654000@www.patriotguard.org
SUMMARY:Adrian DeHart\, Jr.\, 63
DESCRIPTION:We are sad to report the death of U.S. Navy Vietnam era Veteran Adrian DeHart\, Jr.\n\nMr. DeHart has no living relatives to attend his funeral. The Patriot Guard Riders will provide a silent flag line to honor this hero.\n\nSTAGING:  2:15 pm\nMonday\, 8 August 2016\nBiloxi National Cemetery Committal Shelter \nWe will provide a silent flag line for the  2:30 pm service.\n\nRC: Sandie Schlett\n228-297-6720 \nSupport vehicle Randy Rushing\n\n Please hydrate\,  it will be warm.
URL:https://www.patriotguard.org/mission/adrian-dehart-jr-63/
CATEGORIES:Archive
END:VEVENT
END:VCALENDAR