BEGIN:VCALENDAR
VERSION:2.0
PRODID:-//Patriot Guard Riders - ECPv5.6.0//NONSGML v1.0//EN
CALSCALE:GREGORIAN
METHOD:PUBLISH
X-WR-CALNAME:Patriot Guard Riders
X-ORIGINAL-URL:https://www.patriotguard.org
X-WR-CALDESC:Events for Patriot Guard Riders
BEGIN:VTIMEZONE
TZID:America/New_York
BEGIN:DAYLIGHT
TZOFFSETFROM:-0500
TZOFFSETTO:-0400
TZNAME:EDT
DTSTART:20160313T070000
END:DAYLIGHT
BEGIN:STANDARD
TZOFFSETFROM:-0400
TZOFFSETTO:-0500
TZNAME:EST
DTSTART:20161106T060000
END:STANDARD
END:VTIMEZONE
BEGIN:VEVENT
DTSTART;TZID=America/New_York:20160825T090000
DTEND;TZID=America/New_York:20160825T110000
DTSTAMP:20210511T202411
CREATED:20160825T130000Z
LAST-MODIFIED:20191201T143405Z
UID:409726-1472115600-1472122800@www.patriotguard.org
SUMMARY:Adrian Burdette Culver\, 85\, USN\, Korea
DESCRIPTION:Adrian Burdette Culver\, 85 years old\, USN (1950-1953)\, KOREA – (LEO)\, 25 AUGUST 2016 \nThe Patriot Guard Riders have been asked by the family of Adrian Burdette Culver to have a flag line to honor him for his service to his country and Prescott community. It will be our honor to do so. \nAdrian proudly served in the US Navy from 10/10/1950 to 4/24/1953 as an Aviation Machinist’s Mate 3C during the Korean conflict. He also spent 11 years as a Prescott Police Officer. After he retired form the Police Dept.\, he and Yvonne opened a business in downtown Prescott for a number of years and then retired from that. Well\, Yvonne did not care for retirement all that much and he opened the Cats Meow Gift shop on Gurley St. in Prescott. He loved to dance and eat fine food. Adrian was also a life member of American Legion Post 6 in Prescott. \nAdrian entered eternal rest on 16 August at the age of 85. He was preceded by his wife of 61 years Yvonne\, a daughter and a brother. He is survived by his daughter\, brother\, three sisters Betty\, Carmen and Sharon\, grandchildren and 4 great grand children. \nThere will be a celebration of life at American Legion Post 6 in Prescott after the memorial. \nTIME TABLE FOR THURSDAY\, 25 AUGUST 2016 \nStaging: 1415 hours \nPrescott National Cemetery\n500 SR 89\nPrescott\, AZ 86301\nMap Link: http://tinyurl.com/juvcgx7 \nBriefing: 1430 hours \nFlag Line up: 1450 hours \nMemorial service with full military honors: 1500 hours \nWEATHER = 82 and a slight chance of rain \nRide Captain:\nSteve “wingzit” McRoberts\n619-823-8502\npgrwingzit@gmail.com \nFlags/ Support vehicle:\nVinny Bowen \nFlag Line only\, no escort
URL:https://www.patriotguard.org/mission/adrian-burdette-culver-85-usn-korea/
CATEGORIES:Archive
END:VEVENT
END:VCALENDAR