BEGIN:VCALENDAR
VERSION:2.0
PRODID:-//Patriot Guard Riders - ECPv5.3.2.1//NONSGML v1.0//EN
CALSCALE:GREGORIAN
METHOD:PUBLISH
X-WR-CALNAME:Patriot Guard Riders
X-ORIGINAL-URL:https://www.patriotguard.org
X-WR-CALDESC:Events for Patriot Guard Riders
BEGIN:VTIMEZONE
TZID:America/New_York
BEGIN:DAYLIGHT
TZOFFSETFROM:-0500
TZOFFSETTO:-0400
TZNAME:EDT
DTSTART:20170312T070000
END:DAYLIGHT
BEGIN:STANDARD
TZOFFSETFROM:-0400
TZOFFSETTO:-0500
TZNAME:EST
DTSTART:20171105T060000
END:STANDARD
END:VTIMEZONE
BEGIN:VEVENT
DTSTART;TZID=America/New_York:20170317T104500
DTEND;TZID=America/New_York:20170317T124500
DTSTAMP:20210403T082601
CREATED:20170317T144500Z
LAST-MODIFIED:20191201T035710Z
UID:348782-1489747500-1489754700@www.patriotguard.org
SUMMARY:Adelbert F Thinnes\, USN
DESCRIPTION:SN Adelbert F Thinnes\, Veteran \nUSN \nCorinne\, Utah – 17 Mar 2017\n\n\n[HR][/HR] \n\n\nABOUT THE MISSION: \nThe Patriot Guard Riders have been requested to stand a flag line for SN Adelbert F Thinnes\, US Navy. \nThis will be a Veterans format. The service will be at The Curch of  Jesus Christ of Latter Day Saints at  5870 N 4700 W in Bear River City\,  Utah 84301\, at 11:00 AM on Friday\, March 17\, 2017.  We will stand a flag  line at the church and then escort SN Adelbert F  Thinnes to his final  resting place in the Bear River City Cemetery at  5550 N 4600 W in Bear  River City\, where we will stand another flag line. \nThank you\, SN Adelbert F Thinnes\, for your service. \nPRIMARY STAGING DETAILS:  17 Mar 2017\n \n\n\n\nPrimary Staging Time:  10:45 A.M.\n\nBear River Valley Co-Op\n2780 N 4800 W\n\nCorinne\, Utah –\n\n\n\n\n\nRide Captain:\n\nRobert Quick\n435-740-4658.\n\n\nSpecial Instructions: \nAnyone attending in a cage and willing to transport flags please contact Robert Quick at: 435-740-4658. \n\nWeather: Partly cloudy with a high of 65. Please dress accordingly and keep yourself hydrated.\n\n\nFlags & Water:\n\nFlags Will Be Provided\n\nIf you have large bike flags\, please bring them.\n\nWater will be provided.\n\n\nSubmitted By:  Dave Richardson\nPosition:  Assistant State Captain \n\n[HR][/HR]\nNote:\nYou do not have to own/ride a motorcycle or be a Veteran to join and membership is Free. The only requirement is RESPECT! To join\, simply go to Patriot Guard website and click on Register. Membership is Free. \nTo subscribe to receive mission notices\, log into the National Site and   click on the Mission Tab at the top. Select Upcoming Missions by State.   Scroll to the state(s) you would like to receive notices for and click   on the green check mark. Detailed instructions are also located in the   FAQs on the site by clicking on the Quick Links Tab and selecting  FAQs.
URL:https://www.patriotguard.org/mission/adelbert-f-thinnes-usn/
END:VEVENT
END:VCALENDAR