BEGIN:VCALENDAR
VERSION:2.0
PRODID:-//Patriot Guard Riders - ECPv5.6.0//NONSGML v1.0//EN
CALSCALE:GREGORIAN
METHOD:PUBLISH
X-WR-CALNAME:Patriot Guard Riders
X-ORIGINAL-URL:https://www.patriotguard.org
X-WR-CALDESC:Events for Patriot Guard Riders
BEGIN:VTIMEZONE
TZID:America/New_York
BEGIN:DAYLIGHT
TZOFFSETFROM:-0500
TZOFFSETTO:-0400
TZNAME:EDT
DTSTART:20160313T070000
END:DAYLIGHT
BEGIN:STANDARD
TZOFFSETFROM:-0400
TZOFFSETTO:-0500
TZNAME:EST
DTSTART:20161106T060000
END:STANDARD
END:VTIMEZONE
BEGIN:VEVENT
DTSTART;TZID=America/New_York:20160725T090000
DTEND;TZID=America/New_York:20160725T110000
DTSTAMP:20210513T000321
CREATED:20160725T130000Z
LAST-MODIFIED:20191201T144111Z
UID:410382-1469437200-1469444400@www.patriotguard.org
SUMMARY:AD1 Deborah Rose Boyer\, 55\, USN(RET)
DESCRIPTION:AD1 Deborah Rose Boyer\, 55\nUS Navy Retired\nPensacola\, FL\nMonday\, 25 July  2016\n\n\n\nThe Patriot Guard has been invited to stand in honor of AD1 (E-6) Deborah Rose Boyer. \nAD1 Deborah Boyer served over 20 years in the US Navy. During her service she attended several training schools and was awarded many accommodation medals. \nOak Lawn Funeral home 619 N. New Warrington Rd.\, will be in charge of the arrangements. Interment will be at Barrancas National Cemetery. \nWe will be staging at\nWhataburger\n1313 N. New Warrington Rd.\nPensacola FL at 1015. \nNaval Air Station requires that we wear long sleeve shirts\, long trousers\, full fingered gloves\, DOT approved helmets\, footwear covering the ankles and appropriate eye protection.  This attire will be required while riding aboard the base. \nItinerary: \n1015 – Staging – Whataburger\, 1313 N. New Warrington Rd\, Pensacola FL. \n1100 – Safety Briefing\, all hands will attend \n1115 – KSU \n1130 – Arrive at Oak lawn – NO FLAGLINE \n1200 – KSU – LEO Escort to Barrancas \n1230 – Interment Barrancas National Cemetery – Site “A” \nRide Captain:  Tommy Harris\n251-504-4449\nairborne@gulftel.com
URL:https://www.patriotguard.org/mission/ad1-deborah-rose-boyer-55-usnret/
CATEGORIES:Archive
END:VEVENT
END:VCALENDAR