BEGIN:VCALENDAR
VERSION:2.0
PRODID:-//Patriot Guard Riders - ECPv5.6.0//NONSGML v1.0//EN
CALSCALE:GREGORIAN
METHOD:PUBLISH
X-WR-CALNAME:Patriot Guard Riders
X-ORIGINAL-URL:https://www.patriotguard.org
X-WR-CALDESC:Events for Patriot Guard Riders
BEGIN:VTIMEZONE
TZID:America/New_York
BEGIN:DAYLIGHT
TZOFFSETFROM:-0500
TZOFFSETTO:-0400
TZNAME:EDT
DTSTART:20160313T070000
END:DAYLIGHT
BEGIN:STANDARD
TZOFFSETFROM:-0400
TZOFFSETTO:-0500
TZNAME:EST
DTSTART:20161106T060000
END:STANDARD
END:VTIMEZONE
BEGIN:VEVENT
DTSTART;TZID=America/New_York:20160617T090000
DTEND;TZID=America/New_York:20160617T110000
DTSTAMP:20210513T133942
CREATED:20160617T130000Z
LAST-MODIFIED:20191201T145103Z
UID:411284-1466154000-1466161200@www.patriotguard.org
SUMMARY:Acenio Apodaca\, 78
DESCRIPTION:The Patriot Guard Riders have been invited to stand in honor of Acenio (Art) Apodaca\, USMC\, for his funeral services on Friday\, 17 June\, at 2:00 PM\, Romero Funeral Home\, 110 Cleveland St.\, Pueblo\, CO. Mr. Apodaca was 78 years old\, Born in 1938\, and passed away on June 11th\, 2016. \nRide Captain: Abe ‘nuguy’ Duran\n719-542-7786 \n1300 (1:00 PM) Stage\, Romero Funeral Home\n1315 (1:15 PM) Brief\n1330 (1:30 PM) Set Flag line \nAbe will also bring Flags.
URL:https://www.patriotguard.org/mission/acenio-apodaca-78/
CATEGORIES:Archive
END:VEVENT
END:VCALENDAR