BEGIN:VCALENDAR
VERSION:2.0
PRODID:-//Patriot Guard Riders - ECPv5.3.2.1//NONSGML v1.0//EN
CALSCALE:GREGORIAN
METHOD:PUBLISH
X-WR-CALNAME:Patriot Guard Riders
X-ORIGINAL-URL:https://www.patriotguard.org
X-WR-CALDESC:Events for Patriot Guard Riders
BEGIN:VTIMEZONE
TZID:America/New_York
BEGIN:DAYLIGHT
TZOFFSETFROM:-0500
TZOFFSETTO:-0400
TZNAME:EDT
DTSTART:20190310T070000
END:DAYLIGHT
BEGIN:STANDARD
TZOFFSETFROM:-0400
TZOFFSETTO:-0500
TZNAME:EST
DTSTART:20191103T060000
END:STANDARD
END:VTIMEZONE
BEGIN:VEVENT
DTSTART;VALUE=DATE:20190908
DTEND;VALUE=DATE:20190909
DTSTAMP:20210401T024120
CREATED:20190903T023523Z
LAST-MODIFIED:20190903T023523Z
UID:172323-1567900800-1567987199@www.patriotguard.org
SUMMARY:Aaron Ray Chambers
DESCRIPTION:Honor Mission\nAaron Ray Chambers\, Veteran\nUSMC –\nElk City\, Oklahoma – 09-08-19\n\n\n\nABOUT THE MISSION: \nThe family of Aaron Ray Chambers\, US Marine Corp Veteran\, has asked the Patriot Guard to stand in honor of their Hero. LCpl Aaron Ray Chambers served with the US Marine Corp in Guantanamo Bay for a short period of time. Honorably Discharged early with severe PTSD problems. Memorial service will be Sunday\, September 8\, 2019 in Elk City\, Okla. at Akley Park/ Lighthouse at 2pm. Patriot Guard will stage early at the DAV office and join other riders to ride through town with LEO escorting. Memorial service at the park and then ride back to DAV office to eat.\n\n\nPRIMARY STAGING DETAILS: 09-08-19 \nStaging Time: 1:00 PM\n \nDAV Office\n312 N Eastern Ave\nElk City\, Oklahoma 73644\n\n\nRide Captain: \nLarry Williams\n1-580-774-9177\nlarrylw4782@gmail.com\n\n\nSpecial Instructions: \nBriefing: 1:15 pm. Must attend briefing to accompany family.\nKSU at 1:30 for Akley Park.\n\n\nFlags & Water:\nFlags will be provided\nIf you have large bike flags\, please bring them.\nWater WILL NOT be provided\, please bring your own.\n\n\n\nSubmitted By: Jerry Wilson \nPosition: Oklahoma Ride Captain \n\nNote: You do not have to own/ride a motorcycle or be a veteran to join\, and membership is Free. The only requirement is RESPECT! To subscribe to receive mission notices\, log into the National Site and click on the Members tab at the top. Select the Subscribe to PGR Missions option.\n Print This Page
URL:https://www.patriotguard.org/mission/aaron-ray-chambers/
CATEGORIES:Honor Mission
END:VEVENT
END:VCALENDAR