BEGIN:VCALENDAR
VERSION:2.0
PRODID:-//Patriot Guard Riders - ECPv5.3.2.1//NONSGML v1.0//EN
CALSCALE:GREGORIAN
METHOD:PUBLISH
X-WR-CALNAME:Patriot Guard Riders
X-ORIGINAL-URL:https://www.patriotguard.org
X-WR-CALDESC:Events for Patriot Guard Riders
BEGIN:VTIMEZONE
TZID:America/New_York
BEGIN:DAYLIGHT
TZOFFSETFROM:-0500
TZOFFSETTO:-0400
TZNAME:EDT
DTSTART:20190310T070000
END:DAYLIGHT
BEGIN:STANDARD
TZOFFSETFROM:-0400
TZOFFSETTO:-0500
TZNAME:EST
DTSTART:20191103T060000
END:STANDARD
END:VTIMEZONE
BEGIN:VEVENT
DTSTART;VALUE=DATE:20190611
DTEND;VALUE=DATE:20190614
DTSTAMP:20210405T024611
CREATED:20190609T232819Z
LAST-MODIFIED:20191127T072640Z
UID:164120-1560211200-1560470399@www.patriotguard.org
SUMMARY:Aaron Patrick Robinson
DESCRIPTION:Honor Mission\nPFC Aaron Patrick Robinson\, Active Duty\nUSA\, ARNG –\nMULTI-CITY\, Arkansas – 06-11-19\n\n\n\nABOUT THE MISSION: \nOur nation has lost a promising young warrior\, PFC Aaron Patrick Robinson\, 24\, passed from this life June 1\, 2019 at Ft Lee Virginia. PFC Robinson completed basic training and was currently going through additional training. He grew up in the Cave Springs area of northwest Arkansas. Hobbies include cooking\, fishing\, working on cars\, playing guitar\, basketball and golf. Aaron is survived by his wife\, son\, mother\, father\, sister\, grandparents\, other family\, and a host of friends who grieve the loss.\nObituary\n\n\nPRIMARY STAGING DETAILS: 06-11-19 \nStaging Time: 1:00  \nLittle Rock National Airport Airline Cargo Area\n1100 Temple St\nLittle Rock\, Arkansas 72202\nMap\n\n\nRide Captain: \nJerry “DeadEye” Ashby\n501-940-7124\ntripower@suddenlink.net\n\n\nSpecial Instructions: \nBRIEFING: 1:15 PM. Mandatory for safe participation in the escort.\nAll other mission details will be revealed at the briefing.\nFLAG LINE: Upon Hero arrival\nESCORT TO: Heritage Funeral Home\, 1591 South 48th Street\, Springdale\, Arkansas 72762\nNote: Final escort details are currently fluid. Please be sure to arrive at your staging area with a full tank of fuel. Big flags are not authorized\, however sturdy small flags are advised. The route is about 210 miles so we are planning a transfer at the halfway point. Riders would be slightly over 100 miles from either destination. This escort begins at your staging area and concludes at the defined destination. Do not under any circumstance try to join this escort at any other location on the fly.\n\n\nFlags & Water:\nFlags will be provided\nLarge Bike Flags will NOT be needed.\nWater will be provided.\n\nSTAGING #2 DETAILS: 06-13-19 \nStaging Time: 1:00 PM\n \nFirst Baptist Church\n351 W. Centerton Blvd (Near Bentonville)\nCenterton\, Arkansas 72719\nMap\n\n\nRide Captain: \nGreg “Weebles” Weeks\n479-466-8586gweeks2@cox.net\n\nAsst: Cliff “Ol Man” Olsen\, 479-301-4361\n\n\nSpecial Instructions: \nBRIEFING: 1:15 PM\nFLAG LINE: 1:30 – 2:00 PM\nFUNERAL SERVICE: 2:00 PM\nESCORT: Pending\, TBA\nINTERMENT: Cave Springs Cemetery Off of Johnson Rd With Full Military Honors and a Patriot Guard Flag Line.\n\n\nFlags & Water:\nFlags will be provided\nIf you have large bike flags\, please bring them.\nWater will be provided.\n\n\n\nSubmitted By: Jerry Ashby \nPosition: Arkansas State Captain \n\nNote: You do not have to own/ride a motorcycle or be a veteran to join\, and membership is Free. The only requirement is RESPECT! To subscribe to receive mission notices\, log into the National Site and click on the Members tab at the top. Select the Subscribe to PGR Missions option.\n Print This Page
URL:https://www.patriotguard.org/mission/aaron-patrick-robinson/
CATEGORIES:Honor Mission
END:VEVENT
END:VCALENDAR